Workbook
Name category: #REF!
Name classlist: #REF!
Name glassware: #REF!
Name Payment: #REF!
Name REGISTRATION_TYPE___Member_or_Non_Member_Wholesaler: #REF!
Name RegType: #REF!
Name RegWhole: #REF!
Name RegWholesaler: #REF!
Name TasteOfIndustry: #REF!

Sheet TASTING COMPETITION
A2: ENTRY DEADLINE: Friday, January 8, 2027 CONTACT: Hanna Empen, hanna@wswa.org WEBSITE: accesslive.wswa.org
A4: The Tasting Competition is one of the highlights of Access LIVE, offering a remarkable opportunity for additional exposure for your brand. This blind tasting competition rewards excellence in taste and provides opportunities for both established and emerging brands to garner recognition that will enhance their visibility during the show and establish enduring credibility for their products. The competition will conclude prior to the start of Access LIVE, allowing participating brands to proudly showcase their achievements throughout their entire Access LIVE experience, thus amplifying their brand presence.
A6: TASTING COMPETITION GUIDELINES
A7: Please read carefully. Violation of these rules may result in disqualification.
A8: HOW TO ENTER
A9: Entry Form: Complete this entry form and e-mail to hanna@wswa.org as an EXCEL attachment no later than January 8th to obtain early bird pricing. (Please don't submit PDF, hand written, JPG or other formats.) Late or onsite submissions will not be accepted. Entry Fee: Entry fee of $150 per product entered must be paid online at accesslive.wswa.org by January 8th. Late entries purchased January 8-15 will incur a fee of $195 per entry. A 3.5% credit card transaction fee will be applied. A 100% refund, less a $75 processing fee will be provided if WSWA receives notice of cancellation by October 9, 2026. Cancellations received between October 10, 2026– December 11, 2026 will receive a 50% refund of the entry fee. After December 12, 2026, cancellations will not be eligible for any refund. Entry Qualifications: The company or brand entering the Tasting Competition must be registered for and attend Access LIVE as an Exhibitor, defined as having reserved a Main Street Suite or Exhibit Booth. The Tasting Competition will be conducted as a closed judging session prior to the start of Access LIVE. There is no limit to the number of entries per company; however, each product may be entered only once.
A10: ALCOHOL PRODUCT GUIDELINES
A11: Alcohol Shipping Deadline: Deadline for receipt of product by WSWA wholesalers (Reyes and SGWS) is January 8th (late fee will apply between January 9-15). ~ All competition alcohol beverage MUST be shipped with the "Tasting Competition Product Destination Label" affixed to the side of the case and must be sent SEPARATE from the alcohol intended for your booth/suite. ~ All product must be delivered by your wholesaler to Gaylord Texan on Tuesday, January 26th. ~ If you are requesting your product be pulled from inventory at a Texas wholesaler's warehouse, please email them the "Tasting Competition Product Destination Label" with your "Product Pull Form" to ensure it is sent separate from your suite or booth product request. Competition product cannot be sent in the same box as product intended for your booth/suite. If your wholesaler cannot pull a mixed or partial case, you may send a full case of each entry to the Tasting Competition and extra bottles can be picked up onsite in the Texas 5/6 room. Please email Hanna@wswa.org to coordinate. ~ The tasting competition will take place prior to the start of Access LIVE, therefore product not shipped according to these guidelines will not arrive in time for the competition and your entry will be disqualified. Entry fees are non-refundable. Competition Product Sample Quantities: ~ The spirits tasting competition will require two (2) 750ml (or equivalent) bottles per entry. The wine tasting competition will require three (3) of each wine entered. If a product is packaged for an individual serving (ie cans, split bottles...), please provide a six pack or equivalent to 750ml for tasting, and 1 package for display. Texas Wholesaler: ~All alcohol transported into Texas for the purposes of Access LIVE shall be lawfully delivered to Gaylord Texan through a Texas-licensed wholesaler. Entrants may not direct ship or walk any alcohol beverage into Gaylord Texan. Non-compliance may result in confiscation of product and disqualification from the competition. ~ WSWA is not responsible for any fees, excise taxes or other charges you may incur or related to the movement or delivery of your alcohol beverage to Access LIVE or the tasting competition. ~ Please review the WSWA Product Handling Guidelines online at accesslive.wswa.org
A12: AWARDS & JUDGING CRITERIA
A13: ~ Results will be announced by Tuesday, February 2nd. Medals for display in the winners booth/suite will be distributed onsite and digital images will be emailed. Details will be emailed to the main contact on the entry form. ~ Medals for Best of Show, Double Gold, Gold and Silver will be made on a merit basis. The judges will not grant awards when, in their opinion, a product is not worthy of an award. ~ For a Double Gold to be received, the entire panel must give the product unanimous individual Gold Medals. All Double Gold winners will be entered into Sweepstakes where judges will re-taste the Double Gold winners and vote for the best per category. This majority vote will be awarded Best of Show. The Best of Show award has no bearing on the Double Gold medal. ~ Double Gold and Best of Show winners will be displayed in the winner product display case. ~ Up to 10 winners total from the Sweepstakes rounds will be selected by The Tasting Alliance to participate in the 2026 San Francisco World Spirits Competition or 2026 San Francisco International Wine Competition with their entry fee waived. ~ Products will be blind tasted by a panel of impartial, qualified, professional judges selected by the Tasting Alliance. Judging will take place in a closed session prior to Access LIVE. Each entry will, within reason and at the discretion of the Tasting Alliance, be evaluated within a peer group of similar products. The Tasting Alliance, as organizers, reserve the right to arrange categories and flights as they see fit and to reclassify an entry if applicable.
A14: TASTING COMPETITION ENTRY FORM
A15: ENTRY CHECKLIST: Complete all 4 items below by the January 8th deadline to be successfully entered into the competition.
... A17: SECTION 1: COMPANY INFORMATION Company must be registered as an exhibitor (Hospitality Suite or an Exhibit Booth), and company name entered must match your registration for Access LIVE
A18: COMPANY NAME (Registered for WSWA Access LIVE) | C18: PARENT COMPANY (if applicable) | E18: REGISTRATION TYPE | F18: BOOTH # OR SUITE NAME | H18: WEBSITE | I18: MAILING ADDRESS
E19: Select from drop down list:
A20: SECTION 2: MAIN CONTACT INFORMATION Main contact for all communication and results regarding the competitions.
A21: FIRST NAME | B21: LAST NAME | C21: JOB TITLE | F21: COMPANY NAME | H21: E-MAIL | J21: MOBILE PHONE
A23: SECTION 3: ON-SITE CONTACT Please provide contact available on-site for questions. If same as above, please copy and paste contact information.
A24: FIRST NAME | B24: LAST NAME | C24: JOB TITLE | F24: COMPANY NAME | H24: E-MAIL | J24: MOBILE PHONE
A26: SECTION 4: TEXAS WHOLESALER Wholesaler required to deliver competition product to Gaylord Texan January 26th (boxed separate from booth/suite product).
A27: WHOLESALER/IMPORTER COMPANY | C27: CONTACT NAME (if other than SGWS or Reyes) | F27: TITLE | H27: E-MAIL | J27: TELEPHONE
A29: Select from drop down list | B29: To confirm that you have read and agree to the entry instructions above, select “Yes, I agree” from the dropdown menu on the left.
A30: SECTION 5: SPIRIT and/or WINE ENTRIES: Utilize the categories that are applicable to your entry. Use one row per entry and only complete applicable fields. Only utilize as may rows as needed or insert additional rows if necessary. Enter label information only once to prevent duplication in the listing.
A31: TOTAL # OF ENTRIES | C31: TOTAL ENTRY FEE ($150 per entry until Jan 8. Fee increases to $195 after) | F31: =B31*150 -> 0 | G31: *Payment must be submitted by January 8th at accesslive.wswa.org. Entry fee increase to $195 after this date.
A32: SPIRITS: Enter each product under the applicable spirits classification code listed below.
A33: SPIRIT CLASS CODE Select from drop down list. Full list on next page. | B33: ADDITIONAL CLASS CODE CLASSIFICATIONS If applicable or leave blank of NA | C33: PRODUCT NAME As it appears on label including any special designations which will be published in all results | F33: FLAVOR If applicable or leave blank if NA | G33: AGE STATEMENT If on label or leave blank if NA | H33: COUNTRY OF ORIGIN | J33: ALCOHOL % | K33: RETAIL PRICE Per Bottle/Can/Pack | L33: NOTES If applicable | M33: PRODUCT LISTING Do not edit this field. If your listing is incorrect please edit the yellow fields.
A34: <<<EXAMPLE>>> 260: Distillers’ Single Malt Scotch – Up to 12 Years | B34: a) Highlands | C34: Example Scotch | G34: 10 years | H34: Scotland | J34: 0.5 | K34: 100 | M34: =CONCATENATE(C34," ",F34," ",G34,", ",H34,", $",K34) -> Example Scotch 10 years, Scotland, $100
A35: Select from drop down list | M35: =CONCATENATE(C35," ",F35," ",G35,", ",H35,", $",K35) -> , , $
A36: Select from drop down list | M36: =CONCATENATE(C36," ",F36," ",G36,", ",H36,", $",K36) -> , , $
A37: Select from drop down list | M37: =CONCATENATE(C37," ",F37," ",G37,", ",H37,", $",K37) -> , , $
A38: Select from drop down list | M38: =CONCATENATE(C38," ",F38," ",G38,", ",H38,", $",K38) -> , , $
A39: Select from drop down list | M39: =CONCATENATE(C39," ",F39," ",G39,", ",H39,", $",K39) -> , , $
A40: Select from drop down list | M40: =CONCATENATE(C40," ",F40," ",G40,", ",H40,", $",K40) -> , , $
A41: Select from drop down list | M41: =CONCATENATE(C41," ",F41," ",G41,", ",H41,", $",K41) -> , , $
A42: Select from drop down list | M42: =CONCATENATE(C42," ",F42," ",G42,", ",H42,", $",K42) -> , , $
A43: Select from drop down list | M43: =CONCATENATE(C43," ",F43," ",G43,", ",H43,", $",K43) -> , , $
A44: Select from drop down list | M44: =CONCATENATE(C44," ",F44," ",G44,", ",H44,", $",K44) -> , , $
A45: WINE: Enter each product under the applicable wine classification code listed below.
A46: WINE CLASS CODE Select from drop down list. Full list on next page for reference | B46: BRAND OR WINERY NAME As it appears on the label - don't include varietal | C46: VINTAGE YYYY or leave blank if NV | D46: LABEL VARIETAL OR FULL PROPRIETARY NAME | E46: SPECIAL DESIGNATION Leave blank if NA | F46: LABEL VINEYARD Leave blank if NA | G46: APPELATION OF ORIGIN Leave blank if NA | H46: COUNTRY OF ORIGIN | I46: VARIETAL % Required for all blends. Leave blank if NA | J46: RESIDUAL SUGAR include for wines over 1 g/L | K46: ALCOHOL % | L46: RETAIL PRICE Per Bottle/Can/Pack | M46: NOTES If applicable: | N46: PRODUCT LISTING Do not edit this field. Do not duplicate information in multiple fields. If your listing is incorrect please edit the grey fields.
A47: < EXAMPLE > 104: Chardonnay Blends | B47: Example Hills Winery | C47: 2025 | D47: Chardonnay | E47: Reserve | G47: ABC Vineyards | H47: USA | I47: 95% Chardonnay, 5% Chenin blanc | J47: 0.006 | K47: 0.14 | L47: 100 | N47: =CONCATENATE(B47," ",C47," ",D47,", ",E47,", ",G47,", ",,H47,", $",L47) -> Example Hills Winery 2025 Chardonnay, Reserve, ABC Vineyards, USA, $100
...

Sheet 10.2
A1: SPIRITS
A2: SECTION 1. COMPANY INFORMATION: | G2: SECTION 2. CONTACT INFORMATION | M2: SECTION 3. ON-SITE CONTACT | S2: SECTION 4: WHOLESALER | Y2: COMPETITION | Z2: SPIRITS ENTRY
A3: COMPANY NAME | B3: PARENT COMPANY | C3: REGISTRATION TYPE | D3: BOOTH or SUITE #/NAME | E3: WEBSITE | F3: MAILING ADDRESS | G3: FIRST NAME | H3: LAST NAME | I3: TITLE | J3: COMPANY | K3: E-MAIL | L3: MOBILE | M3: FIRST NAME | N3: LAST NAME | O3: TITLE / POSITION | P3: COMPANY | Q3: E-MAIL | R3: MOBILE | S3: WHOLESALER/IMPORTER | T3: CONTACT NAME | U3: TITLE | V3: E-MAIL | W3: TELEPHONE | X3: Agreement | Y3: SPIRITS | Z3: SPIRIT CLASS CODE Select from drop down list. Full list on next page. | AA3: ADDITIONAL CLASS CODE CLASSIFICATIONS If applicable *leave blank if not applicable | AB3: PRODUCT NAME As it appears on label including any special designations which will be published in all results | AC3: FLAVOR If applicable *leave blank if NA | AD3: AGE STATEMENT Only if on label *leave blank if NA | AE3: COUNTRY OF ORIGIN | AF3: ALCOHOL % | AG3: RETAIL PRICE Per Bottle or Unit of Sale | AH3: NOTES If applicable, any notes regarding product | AI3: PRODUCT LISTING AS IT WILL PRINT IN ALL RESULTS | AJ3: Total Entries | AK3: Entry Fee
A4: ='TASTING COMPETITION'!$A$19 -> 0 | B4: ='TASTING COMPETITION'!$C$19 -> 0 | C4: ='TASTING COMPETITION'!$E$19 -> Select from drop down list: | D4: ='TASTING COMPETITION'!$F$19 -> 0 | E4: ='TASTING COMPETITION'!$H$19 -> 0 | F4: ='TASTING COMPETITION'!$I$19 -> 0 | G4: ='TASTING COMPETITION'!$A$22 -> 0 | H4: ='TASTING COMPETITION'!$B$22 -> 0 | I4: ='TASTING COMPETITION'!$C$22 -> 0 | J4: ='TASTING COMPETITION'!$F$22 -> 0 | K4: ='TASTING COMPETITION'!$H$22 -> 0 | L4: ='TASTING COMPETITION'!$J$22 -> 0 | M4: ='TASTING COMPETITION'!$A$25 -> 0 | N4: ='TASTING COMPETITION'!$B$25 -> 0 | O4: ='TASTING COMPETITION'!$C$25 -> 0 | P4: ='TASTING COMPETITION'!$F$25 -> 0 | Q4: ='TASTING COMPETITION'!$H$25 -> 0 | R4: ='TASTING COMPETITION'!$J$25 -> 0 | S4: ='TASTING COMPETITION'!$A$28 -> 0 | T4: ='TASTING COMPETITION'!C28 -> 0 | U4: ='TASTING COMPETITION'!$F$28 -> 0 | V4: ='TASTING COMPETITION'!$H$28 -> 0 | W4: ='TASTING COMPETITION'!$J$28 -> 0 | X4: ='TASTING COMPETITION'!$A$29 -> Select from drop down list | Y4: ='TASTING COMPETITION'!$A$32 -> SPIRITS: Enter each product under the applicable spirits classification code listed below. | Z4: ='TASTING COMPETITION'!A35 -> Select from drop down list | AA4: ='TASTING COMPETITION'!B35 -> 0 | AB4: ='TASTING COMPETITION'!C35 -> 0 | AC4: ='TASTING COMPETITION'!F35 -> 0 | AD4: ='TASTING COMPETITION'!G35 -> 0 | AE4: ='TASTING COMPETITION'!H35 -> 0 | AF4: ='TASTING COMPETITION'!J35 -> 0 | AG4: ='TASTING COMPETITION'!K35 -> 0 | AH4: ='TASTING COMPETITION'!L35 -> 0 | AI4: ='TASTING COMPETITION'!M35 -> , , $ | AJ4: ='TASTING COMPETITION'!$B$31 -> 0 | AK4: ='TASTING COMPETITION'!F31 -> 0
A5: ='TASTING COMPETITION'!$A$19 -> 0 | B5: ='TASTING COMPETITION'!$C$19 -> 0 | C5: ='TASTING COMPETITION'!$E$19 -> Select from drop down list: | D5: ='TASTING COMPETITION'!$F$19 -> 0 | E5: ='TASTING COMPETITION'!$H$19 -> 0 | F5: ='TASTING COMPETITION'!$I$19 -> 0 | G5: ='TASTING COMPETITION'!$A$22 -> 0 | H5: ='TASTING COMPETITION'!$B$22 -> 0 | I5: ='TASTING COMPETITION'!$C$22 -> 0 | J5: ='TASTING COMPETITION'!$F$22 -> 0 | K5: ='TASTING COMPETITION'!$H$22 -> 0 | L5: ='TASTING COMPETITION'!$J$22 -> 0 | M5: ='TASTING COMPETITION'!$A$25 -> 0 | N5: ='TASTING COMPETITION'!$B$25 -> 0 | O5: ='TASTING COMPETITION'!$C$25 -> 0 | P5: ='TASTING COMPETITION'!$F$25 -> 0 | Q5: ='TASTING COMPETITION'!$H$25 -> 0 | R5: ='TASTING COMPETITION'!$J$25 -> 0 | S5: ='TASTING COMPETITION'!$A$28 -> 0 | T5: ='TASTING COMPETITION'!C28 -> 0 | U5: ='TASTING COMPETITION'!$F$28 -> 0 | V5: ='TASTING COMPETITION'!$H$28 -> 0 | W5: ='TASTING COMPETITION'!$J$28 -> 0 | X5: ='TASTING COMPETITION'!$A$29 -> Select from drop down list | Y5: ='TASTING COMPETITION'!$A$32 -> SPIRITS: Enter each product under the applicable spirits classification code listed below. | Z5: ='TASTING COMPETITION'!A36 -> Select from drop down list | AA5: ='TASTING COMPETITION'!B36 -> 0 | AB5: ='TASTING COMPETITION'!C36 -> 0 | AC5: ='TASTING COMPETITION'!F36 -> 0 | AD5: ='TASTING COMPETITION'!G36 -> 0 | AE5: ='TASTING COMPETITION'!H36 -> 0 | AF5: ='TASTING COMPETITION'!J36 -> 0 | AG5: ='TASTING COMPETITION'!K36 -> 0 | AH5: ='TASTING COMPETITION'!L36 -> 0 | AI5: ='TASTING COMPETITION'!M36 -> , , $
A6: ='TASTING COMPETITION'!$A$19 -> 0 | B6: ='TASTING COMPETITION'!$C$19 -> 0 | C6: ='TASTING COMPETITION'!$E$19 -> Select from drop down list: | D6: ='TASTING COMPETITION'!$F$19 -> 0 | E6: ='TASTING COMPETITION'!$H$19 -> 0 | F6: ='TASTING COMPETITION'!$I$19 -> 0 | G6: ='TASTING COMPETITION'!$A$22 -> 0 | H6: ='TASTING COMPETITION'!$B$22 -> 0 | I6: ='TASTING COMPETITION'!$C$22 -> 0 | J6: ='TASTING COMPETITION'!$F$22 -> 0 | K6: ='TASTING COMPETITION'!$H$22 -> 0 | L6: ='TASTING COMPETITION'!$J$22 -> 0 | M6: ='TASTING COMPETITION'!$A$25 -> 0 | N6: ='TASTING COMPETITION'!$B$25 -> 0 | O6: ='TASTING COMPETITION'!$C$25 -> 0 | P6: ='TASTING COMPETITION'!$F$25 -> 0 | Q6: ='TASTING COMPETITION'!$H$25 -> 0 | R6: ='TASTING COMPETITION'!$J$25 -> 0 | S6: ='TASTING COMPETITION'!$A$28 -> 0 | T6: ='TASTING COMPETITION'!C28 -> 0 | U6: ='TASTING COMPETITION'!$F$28 -> 0 | V6: ='TASTING COMPETITION'!$H$28 -> 0 | W6: ='TASTING COMPETITION'!$J$28 -> 0 | X6: ='TASTING COMPETITION'!$A$29 -> Select from drop down list | Y6: ='TASTING COMPETITION'!$A$32 -> SPIRITS: Enter each product under the applicable spirits classification code listed below. | Z6: ='TASTING COMPETITION'!A37 -> Select from drop down list | AA6: ='TASTING COMPETITION'!B37 -> 0 | AB6: ='TASTING COMPETITION'!C37 -> 0 | AC6: ='TASTING COMPETITION'!F37 -> 0 | AD6: ='TASTING COMPETITION'!G37 -> 0 | AE6: ='TASTING COMPETITION'!H37 -> 0 | AF6: ='TASTING COMPETITION'!J37 -> 0 | AG6: ='TASTING COMPETITION'!K37 -> 0 | AH6: ='TASTING COMPETITION'!L37 -> 0 | AI6: ='TASTING COMPETITION'!M37 -> , , $
A7: ='TASTING COMPETITION'!$A$19 -> 0 | B7: ='TASTING COMPETITION'!$C$19 -> 0 | C7: ='TASTING COMPETITION'!$E$19 -> Select from drop down list: | D7: ='TASTING COMPETITION'!$F$19 -> 0 | E7: ='TASTING COMPETITION'!$H$19 -> 0 | F7: ='TASTING COMPETITION'!$I$19 -> 0 | G7: ='TASTING COMPETITION'!$A$22 -> 0 | H7: ='TASTING COMPETITION'!$B$22 -> 0 | I7: ='TASTING COMPETITION'!$C$22 -> 0 | J7: ='TASTING COMPETITION'!$F$22 -> 0 | K7: ='TASTING COMPETITION'!$H$22 -> 0 | L7: ='TASTING COMPETITION'!$J$22 -> 0 | M7: ='TASTING COMPETITION'!$A$25 -> 0 | N7: ='TASTING COMPETITION'!$B$25 -> 0 | O7: ='TASTING COMPETITION'!$C$25 -> 0 | P7: ='TASTING COMPETITION'!$F$25 -> 0 | Q7: ='TASTING COMPETITION'!$H$25 -> 0 | R7: ='TASTING COMPETITION'!$J$25 -> 0 | S7: ='TASTING COMPETITION'!$A$28 -> 0 | T7: ='TASTING COMPETITION'!C28 -> 0 | U7: ='TASTING COMPETITION'!$F$28 -> 0 | V7: ='TASTING COMPETITION'!$H$28 -> 0 | W7: ='TASTING COMPETITION'!$J$28 -> 0 | X7: ='TASTING COMPETITION'!$A$29 -> Select from drop down list | Y7: ='TASTING COMPETITION'!$A$32 -> SPIRITS: Enter each product under the applicable spirits classification code listed below. | Z7: ='TASTING COMPETITION'!A38 -> Select from drop down list | AA7: ='TASTING COMPETITION'!B38 -> 0 | AB7: ='TASTING COMPETITION'!C38 -> 0 | AC7: ='TASTING COMPETITION'!F38 -> 0 | AD7: ='TASTING COMPETITION'!G38 -> 0 | AE7: ='TASTING COMPETITION'!H38 -> 0 | AF7: ='TASTING COMPETITION'!J38 -> 0 | AG7: ='TASTING COMPETITION'!K38 -> 0 | AH7: ='TASTING COMPETITION'!L38 -> 0 | AI7: ='TASTING COMPETITION'!M38 -> , , $
A8: ='TASTING COMPETITION'!$A$19 -> 0 | B8: ='TASTING COMPETITION'!$C$19 -> 0 | C8: ='TASTING COMPETITION'!$E$19 -> Select from drop down list: | D8: ='TASTING COMPETITION'!$F$19 -> 0 | E8: ='TASTING COMPETITION'!$H$19 -> 0 | F8: ='TASTING COMPETITION'!$I$19 -> 0 | G8: ='TASTING COMPETITION'!$A$22 -> 0 | H8: ='TASTING COMPETITION'!$B$22 -> 0 | I8: ='TASTING COMPETITION'!$C$22 -> 0 | J8: ='TASTING COMPETITION'!$F$22 -> 0 | K8: ='TASTING COMPETITION'!$H$22 -> 0 | L8: ='TASTING COMPETITION'!$J$22 -> 0 | M8: ='TASTING COMPETITION'!$A$25 -> 0 | N8: ='TASTING COMPETITION'!$B$25 -> 0 | O8: ='TASTING COMPETITION'!$C$25 -> 0 | P8: ='TASTING COMPETITION'!$F$25 -> 0 | Q8: ='TASTING COMPETITION'!$H$25 -> 0 | R8: ='TASTING COMPETITION'!$J$25 -> 0 | S8: ='TASTING COMPETITION'!$A$28 -> 0 | T8: ='TASTING COMPETITION'!C28 -> 0 | U8: ='TASTING COMPETITION'!$F$28 -> 0 | V8: ='TASTING COMPETITION'!$H$28 -> 0 | W8: ='TASTING COMPETITION'!$J$28 -> 0 | X8: ='TASTING COMPETITION'!$A$29 -> Select from drop down list | Y8: ='TASTING COMPETITION'!$A$32 -> SPIRITS: Enter each product under the applicable spirits classification code listed below. | Z8: ='TASTING COMPETITION'!A39 -> Select from drop down list | AA8: ='TASTING COMPETITION'!B39 -> 0 | AB8: ='TASTING COMPETITION'!C39 -> 0 | AC8: ='TASTING COMPETITION'!F39 -> 0 | AD8: ='TASTING COMPETITION'!G39 -> 0 | AE8: ='TASTING COMPETITION'!H39 -> 0 | AF8: ='TASTING COMPETITION'!J39 -> 0 | AG8: ='TASTING COMPETITION'!K39 -> 0 | AH8: ='TASTING COMPETITION'!L39 -> 0 | AI8: ='TASTING COMPETITION'!M39 -> , , $
A9: ='TASTING COMPETITION'!$A$19 -> 0 | B9: ='TASTING COMPETITION'!$C$19 -> 0 | C9: ='TASTING COMPETITION'!$E$19 -> Select from drop down list: | D9: ='TASTING COMPETITION'!$F$19 -> 0 | E9: ='TASTING COMPETITION'!$H$19 -> 0 | F9: ='TASTING COMPETITION'!$I$19 -> 0 | G9: ='TASTING COMPETITION'!$A$22 -> 0 | H9: ='TASTING COMPETITION'!$B$22 -> 0 | I9: ='TASTING COMPETITION'!$C$22 -> 0 | J9: ='TASTING COMPETITION'!$F$22 -> 0 | K9: ='TASTING COMPETITION'!$H$22 -> 0 | L9: ='TASTING COMPETITION'!$J$22 -> 0 | M9: ='TASTING COMPETITION'!$A$25 -> 0 | N9: ='TASTING COMPETITION'!$B$25 -> 0 | O9: ='TASTING COMPETITION'!$C$25 -> 0 | P9: ='TASTING COMPETITION'!$F$25 -> 0 | Q9: ='TASTING COMPETITION'!$H$25 -> 0 | R9: ='TASTING COMPETITION'!$J$25 -> 0 | S9: ='TASTING COMPETITION'!$A$28 -> 0 | T9: ='TASTING COMPETITION'!C28 -> 0 | U9: ='TASTING COMPETITION'!$F$28 -> 0 | V9: ='TASTING COMPETITION'!$H$28 -> 0 | W9: ='TASTING COMPETITION'!$J$28 -> 0 | X9: ='TASTING COMPETITION'!$A$29 -> Select from drop down list | Y9: ='TASTING COMPETITION'!$A$32 -> SPIRITS: Enter each product under the applicable spirits classification code listed below. | Z9: ='TASTING COMPETITION'!A40 -> Select from drop down list | AA9: ='TASTING COMPETITION'!B40 -> 0 | AB9: ='TASTING COMPETITION'!C40 -> 0 | AC9: ='TASTING COMPETITION'!F40 -> 0 | AD9: ='TASTING COMPETITION'!G40 -> 0 | AE9: ='TASTING COMPETITION'!H40 -> 0 | AF9: ='TASTING COMPETITION'!J40 -> 0 | AG9: ='TASTING COMPETITION'!K40 -> 0 | AH9: ='TASTING COMPETITION'!L40 -> 0 | AI9: ='TASTING COMPETITION'!M40 -> , , $
A10: ='TASTING COMPETITION'!$A$19 -> 0 | B10: ='TASTING COMPETITION'!$C$19 -> 0 | C10: ='TASTING COMPETITION'!$E$19 -> Select from drop down list: | D10: ='TASTING COMPETITION'!$F$19 -> 0 | E10: ='TASTING COMPETITION'!$H$19 -> 0 | F10: ='TASTING COMPETITION'!$I$19 -> 0 | G10: ='TASTING COMPETITION'!$A$22 -> 0 | H10: ='TASTING COMPETITION'!$B$22 -> 0 | I10: ='TASTING COMPETITION'!$C$22 -> 0 | J10: ='TASTING COMPETITION'!$F$22 -> 0 | K10: ='TASTING COMPETITION'!$H$22 -> 0 | L10: ='TASTING COMPETITION'!$J$22 -> 0 | M10: ='TASTING COMPETITION'!$A$25 -> 0 | N10: ='TASTING COMPETITION'!$B$25 -> 0 | O10: ='TASTING COMPETITION'!$C$25 -> 0 | P10: ='TASTING COMPETITION'!$F$25 -> 0 | Q10: ='TASTING COMPETITION'!$H$25 -> 0 | R10: ='TASTING COMPETITION'!$J$25 -> 0 | S10: ='TASTING COMPETITION'!$A$28 -> 0 | T10: ='TASTING COMPETITION'!C28 -> 0 | U10: ='TASTING COMPETITION'!$F$28 -> 0 | V10: ='TASTING COMPETITION'!$H$28 -> 0 | W10: ='TASTING COMPETITION'!$J$28 -> 0 | X10: ='TASTING COMPETITION'!$A$29 -> Select from drop down list | Y10: ='TASTING COMPETITION'!$A$32 -> SPIRITS: Enter each product under the applicable spirits classification code listed below. | Z10: ='TASTING COMPETITION'!A41 -> Select from drop down list | AA10: ='TASTING COMPETITION'!B41 -> 0 | AB10: ='TASTING COMPETITION'!C41 -> 0 | AC10: ='TASTING COMPETITION'!F41 -> 0 | AD10: ='TASTING COMPETITION'!G41 -> 0 | AE10: ='TASTING COMPETITION'!H41 -> 0 | AF10: ='TASTING COMPETITION'!J41 -> 0 | AG10: ='TASTING COMPETITION'!K41 -> 0 | AH10: ='TASTING COMPETITION'!L41 -> 0 | AI10: ='TASTING COMPETITION'!M41 -> , , $
A11: ='TASTING COMPETITION'!$A$19 -> 0 | B11: ='TASTING COMPETITION'!$C$19 -> 0 | C11: ='TASTING COMPETITION'!$E$19 -> Select from drop down list: | D11: ='TASTING COMPETITION'!$F$19 -> 0 | E11: ='TASTING COMPETITION'!$H$19 -> 0 | F11: ='TASTING COMPETITION'!$I$19 -> 0 | G11: ='TASTING COMPETITION'!$A$22 -> 0 | H11: ='TASTING COMPETITION'!$B$22 -> 0 | I11: ='TASTING COMPETITION'!$C$22 -> 0 | J11: ='TASTING COMPETITION'!$F$22 -> 0 | K11: ='TASTING COMPETITION'!$H$22 -> 0 | L11: ='TASTING COMPETITION'!$J$22 -> 0 | M11: ='TASTING COMPETITION'!$A$25 -> 0 | N11: ='TASTING COMPETITION'!$B$25 -> 0 | O11: ='TASTING COMPETITION'!$C$25 -> 0 | P11: ='TASTING COMPETITION'!$F$25 -> 0 | Q11: ='TASTING COMPETITION'!$H$25 -> 0 | R11: ='TASTING COMPETITION'!$J$25 -> 0 | S11: ='TASTING COMPETITION'!$A$28 -> 0 | T11: ='TASTING COMPETITION'!C28 -> 0 | U11: ='TASTING COMPETITION'!$F$28 -> 0 | V11: ='TASTING COMPETITION'!$H$28 -> 0 | W11: ='TASTING COMPETITION'!$J$28 -> 0 | X11: ='TASTING COMPETITION'!$A$29 -> Select from drop down list | Y11: ='TASTING COMPETITION'!$A$32 -> SPIRITS: Enter each product under the applicable spirits classification code listed below. | Z11: ='TASTING COMPETITION'!A42 -> Select from drop down list | AA11: ='TASTING COMPETITION'!B42 -> 0 | AB11: ='TASTING COMPETITION'!C42 -> 0 | AC11: ='TASTING COMPETITION'!F42 -> 0 | AD11: ='TASTING COMPETITION'!G42 -> 0 | AE11: ='TASTING COMPETITION'!H42 -> 0 | AF11: ='TASTING COMPETITION'!J42 -> 0 | AG11: ='TASTING COMPETITION'!K42 -> 0 | AH11: ='TASTING COMPETITION'!L42 -> 0 | AI11: ='TASTING COMPETITION'!M42 -> , , $
A12: ='TASTING COMPETITION'!$A$19 -> 0 | B12: ='TASTING COMPETITION'!$C$19 -> 0 | C12: ='TASTING COMPETITION'!$E$19 -> Select from drop down list: | D12: ='TASTING COMPETITION'!$F$19 -> 0 | E12: ='TASTING COMPETITION'!$H$19 -> 0 | F12: ='TASTING COMPETITION'!$I$19 -> 0 | G12: ='TASTING COMPETITION'!$A$22 -> 0 | H12: ='TASTING COMPETITION'!$B$22 -> 0 | I12: ='TASTING COMPETITION'!$C$22 -> 0 | J12: ='TASTING COMPETITION'!$F$22 -> 0 | K12: ='TASTING COMPETITION'!$H$22 -> 0 | L12: ='TASTING COMPETITION'!$J$22 -> 0 | M12: ='TASTING COMPETITION'!$A$25 -> 0 | N12: ='TASTING COMPETITION'!$B$25 -> 0 | O12: ='TASTING COMPETITION'!$C$25 -> 0 | P12: ='TASTING COMPETITION'!$F$25 -> 0 | Q12: ='TASTING COMPETITION'!$H$25 -> 0 | R12: ='TASTING COMPETITION'!$J$25 -> 0 | S12: ='TASTING COMPETITION'!$A$28 -> 0 | T12: ='TASTING COMPETITION'!C28 -> 0 | U12: ='TASTING COMPETITION'!$F$28 -> 0 | V12: ='TASTING COMPETITION'!$H$28 -> 0 | W12: ='TASTING COMPETITION'!$J$28 -> 0 | X12: ='TASTING COMPETITION'!$A$29 -> Select from drop down list | Y12: ='TASTING COMPETITION'!$A$32 -> SPIRITS: Enter each product under the applicable spirits classification code listed below. | Z12: ='TASTING COMPETITION'!A43 -> Select from drop down list | AA12: ='TASTING COMPETITION'!B43 -> 0 | AB12: ='TASTING COMPETITION'!C43 -> 0 | AC12: ='TASTING COMPETITION'!F43 -> 0 | AD12: ='TASTING COMPETITION'!G43 -> 0 | AE12: ='TASTING COMPETITION'!H43 -> 0 | AF12: ='TASTING COMPETITION'!J43 -> 0 | AG12: ='TASTING COMPETITION'!K43 -> 0 | AH12: ='TASTING COMPETITION'!L43 -> 0 | AI12: ='TASTING COMPETITION'!M43 -> , , $
A13: ='TASTING COMPETITION'!$A$19 -> 0 | B13: ='TASTING COMPETITION'!$C$19 -> 0 | C13: ='TASTING COMPETITION'!$E$19 -> Select from drop down list: | D13: ='TASTING COMPETITION'!$F$19 -> 0 | E13: ='TASTING COMPETITION'!$H$19 -> 0 | F13: ='TASTING COMPETITION'!$I$19 -> 0 | G13: ='TASTING COMPETITION'!$A$22 -> 0 | H13: ='TASTING COMPETITION'!$B$22 -> 0 | I13: ='TASTING COMPETITION'!$C$22 -> 0 | J13: ='TASTING COMPETITION'!$F$22 -> 0 | K13: ='TASTING COMPETITION'!$H$22 -> 0 | L13: ='TASTING COMPETITION'!$J$22 -> 0 | M13: ='TASTING COMPETITION'!$A$25 -> 0 | N13: ='TASTING COMPETITION'!$B$25 -> 0 | O13: ='TASTING COMPETITION'!$C$25 -> 0 | P13: ='TASTING COMPETITION'!$F$25 -> 0 | Q13: ='TASTING COMPETITION'!$H$25 -> 0 | R13: ='TASTING COMPETITION'!$J$25 -> 0 | S13: ='TASTING COMPETITION'!$A$28 -> 0 | T13: ='TASTING COMPETITION'!C28 -> 0 | U13: ='TASTING COMPETITION'!$F$28 -> 0 | V13: ='TASTING COMPETITION'!$H$28 -> 0 | W13: ='TASTING COMPETITION'!$J$28 -> 0 | X13: ='TASTING COMPETITION'!$A$29 -> Select from drop down list | Y13: ='TASTING COMPETITION'!$A$32 -> SPIRITS: Enter each product under the applicable spirits classification code listed below. | Z13: ='TASTING COMPETITION'!A44 -> Select from drop down list | AA13: ='TASTING COMPETITION'!B44 -> 0 | AB13: ='TASTING COMPETITION'!C44 -> 0 | AC13: ='TASTING COMPETITION'!F44 -> 0 | AD13: ='TASTING COMPETITION'!G44 -> 0 | AE13: ='TASTING COMPETITION'!H44 -> 0 | AF13: ='TASTING COMPETITION'!J44 -> 0 | AG13: ='TASTING COMPETITION'!K44 -> 0 | AH13: ='TASTING COMPETITION'!L44 -> 0 | AI13: ='TASTING COMPETITION'!M44 -> , , $
A14: WINE | Y14: COMPETITION | Z14: WINE ENTRY
A15: COMPANY NAME | B15: PARENT COMPANY | C15: REGISTRATION TYPE | D15: BOOTH or SUITE #/NAME | E15: WEBSITE | F15: MAILING ADDRESS | G15: FIRST NAME | H15: LAST NAME | I15: TITLE | J15: COMPANY | K15: E-MAIL | L15: MOBILE | M15: FIRST NAME | N15: LAST NAME | O15: TITLE / POSITION | P15: COMPANY | Q15: E-MAIL | R15: MOBILE | S15: WHOLESALER/IMPORTER | T15: CONTACT NAME | U15: TITLE | V15: E-MAIL | W15: TELEPHONE | X15: Agreement | Y15: WINE | Z15: WINE CLASS CODE Select from drop down list. Full list on next page for reference | AA15: BRAND OR WINERY NAME As it appears on the label - don't include varietal | AB15: VINTAGE xxxx | AC15: LABEL VARIETAL OR FULL PROPRIETARY NAME | AD15: SPECIAL DESIGNATION Leave blank if NA | AE15: LABEL VINEYARD | AF15: APPELATION OF ORIGIN Leave blank if NA | AG15: COUNTRY OF ORIGIN | AH15: VARIETAL % Required for all blends. Leave blank if NA | AI15: RESIDUAL SUGAR include for wines over 1 g/L | AJ15: ALCOHOL % | AK15: RETAIL PRICE Per Bottle or Unit of Sale | AL15: NOTES if applicable, any notes regarding product | AM15: PRODUCT LISTING Do not edit this field. Do not duplicate information in multiple fields. If your listing is incorrect please edit the grey fields.
A16: ='TASTING COMPETITION'!$A$19 -> 0 | B16: ='TASTING COMPETITION'!$C$19 -> 0 | C16: ='TASTING COMPETITION'!$E$19 -> Select from drop down list: | D16: ='TASTING COMPETITION'!$F$19 -> 0 | E16: ='TASTING COMPETITION'!$H$19 -> 0 | F16: ='TASTING COMPETITION'!$I$19 -> 0 | G16: ='TASTING COMPETITION'!$A$22 -> 0 | H16: ='TASTING COMPETITION'!$B$22 -> 0 | I16: ='TASTING COMPETITION'!$C$22 -> 0 | J16: ='TASTING COMPETITION'!$F$22 -> 0 | K16: ='TASTING COMPETITION'!$H$22 -> 0 | L16: ='TASTING COMPETITION'!$J$22 -> 0 | M16: ='TASTING COMPETITION'!$A$25 -> 0 | N16: ='TASTING COMPETITION'!$B$25 -> 0 | O16: ='TASTING COMPETITION'!$C$25 -> 0 | P16: ='TASTING COMPETITION'!$F$25 -> 0 | Q16: ='TASTING COMPETITION'!$H$25 -> 0 | R16: ='TASTING COMPETITION'!$J$25 -> 0 | S16: ='TASTING COMPETITION'!$A$28 -> 0 | T16: ='TASTING COMPETITION'!C40 -> 0 | U16: ='TASTING COMPETITION'!$F$28 -> 0 | V16: ='TASTING COMPETITION'!$H$28 -> 0 | W16: ='TASTING COMPETITION'!$J$28 -> 0 | X16: ='TASTING COMPETITION'!$A$29 -> Select from drop down list | Y16: ='TASTING COMPETITION'!$A$45 -> WINE: Enter each product under the applicable wine classification code listed below. | Z16: ='TASTING COMPETITION'!A48 -> Select from drop down list | AA16: ='TASTING COMPETITION'!B48 -> 0 | AB16: ='TASTING COMPETITION'!C48 -> 0 | AC16: ='TASTING COMPETITION'!D48 -> 0 | AD16: ='TASTING COMPETITION'!E48 -> 0 | AE16: ='TASTING COMPETITION'!F48 -> 0 | AF16: ='TASTING COMPETITION'!G48 -> 0 | AG16: ='TASTING COMPETITION'!H48 -> 0 | ... AM16: ='TASTING COMPETITION'!N48 -> , , , , $
A17: ='TASTING COMPETITION'!$A$19 -> 0 | B17: ='TASTING COMPETITION'!$C$19 -> 0 | C17: ='TASTING COMPETITION'!$E$19 -> Select from drop down list: | D17: ='TASTING COMPETITION'!$F$19 -> 0 | E17: ='TASTING COMPETITION'!$H$19 -> 0 | F17: ='TASTING COMPETITION'!$I$19 -> 0 | G17: ='TASTING COMPETITION'!$A$22 -> 0 | H17: ='TASTING COMPETITION'!$B$22 -> 0 | I17: ='TASTING COMPETITION'!$C$22 -> 0 | J17: ='TASTING COMPETITION'!$F$22 -> 0 | K17: ='TASTING COMPETITION'!$H$22 -> 0 | L17: ='TASTING COMPETITION'!$J$22 -> 0 | M17: ='TASTING COMPETITION'!$A$25 -> 0 | N17: ='TASTING COMPETITION'!$B$25 -> 0 | O17: ='TASTING COMPETITION'!$C$25 -> 0 | P17: ='TASTING COMPETITION'!$F$25 -> 0 | Q17: ='TASTING COMPETITION'!$H$25 -> 0 | R17: ='TASTING COMPETITION'!$J$25 -> 0 | S17: ='TASTING COMPETITION'!$A$28 -> 0 | T17: ='TASTING COMPETITION'!C40 -> 0 | U17: ='TASTING COMPETITION'!$F$28 -> 0 | V17: ='TASTING COMPETITION'!$H$28 -> 0 | W17: ='TASTING COMPETITION'!$J$28 -> 0 | X17: ='TASTING COMPETITION'!$A$29 -> Select from drop down list | Y17: ='TASTING COMPETITION'!$A$45 -> WINE: Enter each product under the applicable wine classification code listed below. | Z17: ='TASTING COMPETITION'!A49 -> Select from drop down list | AA17: ='TASTING COMPETITION'!B49 -> 0 | AB17: ='TASTING COMPETITION'!C49 -> 0 | AC17: ='TASTING COMPETITION'!D49 -> 0 | AD17: ='TASTING COMPETITION'!E49 -> 0 | AE17: ='TASTING COMPETITION'!F49 -> 0 | AF17: ='TASTING COMPETITION'!G49 -> 0 | AG17: ='TASTING COMPETITION'!H49 -> 0 | ... AM17: ='TASTING COMPETITION'!N49 -> , , , , $
A18: ='TASTING COMPETITION'!$A$19 -> 0 | B18: ='TASTING COMPETITION'!$C$19 -> 0 | C18: ='TASTING COMPETITION'!$E$19 -> Select from drop down list: | D18: ='TASTING COMPETITION'!$F$19 -> 0 | E18: ='TASTING COMPETITION'!$H$19 -> 0 | F18: ='TASTING COMPETITION'!$I$19 -> 0 | G18: ='TASTING COMPETITION'!$A$22 -> 0 | H18: ='TASTING COMPETITION'!$B$22 -> 0 | I18: ='TASTING COMPETITION'!$C$22 -> 0 | J18: ='TASTING COMPETITION'!$F$22 -> 0 | K18: ='TASTING COMPETITION'!$H$22 -> 0 | L18: ='TASTING COMPETITION'!$J$22 -> 0 | M18: ='TASTING COMPETITION'!$A$25 -> 0 | N18: ='TASTING COMPETITION'!$B$25 -> 0 | O18: ='TASTING COMPETITION'!$C$25 -> 0 | P18: ='TASTING COMPETITION'!$F$25 -> 0 | Q18: ='TASTING COMPETITION'!$H$25 -> 0 | R18: ='TASTING COMPETITION'!$J$25 -> 0 | S18: ='TASTING COMPETITION'!$A$28 -> 0 | T18: ='TASTING COMPETITION'!C40 -> 0 | U18: ='TASTING COMPETITION'!$F$28 -> 0 | V18: ='TASTING COMPETITION'!$H$28 -> 0 | W18: ='TASTING COMPETITION'!$J$28 -> 0 | X18: ='TASTING COMPETITION'!$A$29 -> Select from drop down list | Y18: ='TASTING COMPETITION'!$A$45 -> WINE: Enter each product under the applicable wine classification code listed below. | Z18: ='TASTING COMPETITION'!A50 -> Select from drop down list | AA18: ='TASTING COMPETITION'!B50 -> 0 | AB18: ='TASTING COMPETITION'!C50 -> 0 | AC18: ='TASTING COMPETITION'!D50 -> 0 | AD18: ='TASTING COMPETITION'!E50 -> 0 | AE18: ='TASTING COMPETITION'!F50 -> 0 | AF18: ='TASTING COMPETITION'!G50 -> 0 | AG18: ='TASTING COMPETITION'!H50 -> 0 | ... AM18: ='TASTING COMPETITION'!N50 -> , , , , $
A19: ='TASTING COMPETITION'!$A$19 -> 0 | B19: ='TASTING COMPETITION'!$C$19 -> 0 | C19: ='TASTING COMPETITION'!$E$19 -> Select from drop down list: | D19: ='TASTING COMPETITION'!$F$19 -> 0 | E19: ='TASTING COMPETITION'!$H$19 -> 0 | F19: ='TASTING COMPETITION'!$I$19 -> 0 | G19: ='TASTING COMPETITION'!$A$22 -> 0 | H19: ='TASTING COMPETITION'!$B$22 -> 0 | I19: ='TASTING COMPETITION'!$C$22 -> 0 | J19: ='TASTING COMPETITION'!$F$22 -> 0 | K19: ='TASTING COMPETITION'!$H$22 -> 0 | L19: ='TASTING COMPETITION'!$J$22 -> 0 | M19: ='TASTING COMPETITION'!$A$25 -> 0 | N19: ='TASTING COMPETITION'!$B$25 -> 0 | O19: ='TASTING COMPETITION'!$C$25 -> 0 | P19: ='TASTING COMPETITION'!$F$25 -> 0 | Q19: ='TASTING COMPETITION'!$H$25 -> 0 | R19: ='TASTING COMPETITION'!$J$25 -> 0 | S19: ='TASTING COMPETITION'!$A$28 -> 0 | T19: ='TASTING COMPETITION'!C40 -> 0 | U19: ='TASTING COMPETITION'!$F$28 -> 0 | V19: ='TASTING COMPETITION'!$H$28 -> 0 | W19: ='TASTING COMPETITION'!$J$28 -> 0 | X19: ='TASTING COMPETITION'!$A$29 -> Select from drop down list | Y19: ='TASTING COMPETITION'!$A$45 -> WINE: Enter each product under the applicable wine classification code listed below. | Z19: ='TASTING COMPETITION'!A51 -> Select from drop down list | AA19: ='TASTING COMPETITION'!B51 -> 0 | AB19: ='TASTING COMPETITION'!C51 -> 0 | AC19: ='TASTING COMPETITION'!D51 -> 0 | AD19: ='TASTING COMPETITION'!E51 -> 0 | AE19: ='TASTING COMPETITION'!F51 -> 0 | AF19: ='TASTING COMPETITION'!G51 -> 0 | AG19: ='TASTING COMPETITION'!H51 -> 0 | ... AM19: ='TASTING COMPETITION'!N51 -> , , , , $
A20: ='TASTING COMPETITION'!$A$19 -> 0 | B20: ='TASTING COMPETITION'!$C$19 -> 0 | C20: ='TASTING COMPETITION'!$E$19 -> Select from drop down list: | D20: ='TASTING COMPETITION'!$F$19 -> 0 | E20: ='TASTING COMPETITION'!$H$19 -> 0 | F20: ='TASTING COMPETITION'!$I$19 -> 0 | G20: ='TASTING COMPETITION'!$A$22 -> 0 | H20: ='TASTING COMPETITION'!$B$22 -> 0 | I20: ='TASTING COMPETITION'!$C$22 -> 0 | J20: ='TASTING COMPETITION'!$F$22 -> 0 | K20: ='TASTING COMPETITION'!$H$22 -> 0 | L20: ='TASTING COMPETITION'!$J$22 -> 0 | M20: ='TASTING COMPETITION'!$A$25 -> 0 | N20: ='TASTING COMPETITION'!$B$25 -> 0 | O20: ='TASTING COMPETITION'!$C$25 -> 0 | P20: ='TASTING COMPETITION'!$F$25 -> 0 | Q20: ='TASTING COMPETITION'!$H$25 -> 0 | R20: ='TASTING COMPETITION'!$J$25 -> 0 | S20: ='TASTING COMPETITION'!$A$28 -> 0 | T20: ='TASTING COMPETITION'!C40 -> 0 | U20: ='TASTING COMPETITION'!$F$28 -> 0 | V20: ='TASTING COMPETITION'!$H$28 -> 0 | W20: ='TASTING COMPETITION'!$J$28 -> 0 | X20: ='TASTING COMPETITION'!$A$29 -> Select from drop down list | Y20: ='TASTING COMPETITION'!$A$45 -> WINE: Enter each product under the applicable wine classification code listed below. | Z20: ='TASTING COMPETITION'!A52 -> Select from drop down list | AA20: ='TASTING COMPETITION'!B52 -> 0 | AB20: ='TASTING COMPETITION'!C52 -> 0 | AC20: ='TASTING COMPETITION'!D52 -> 0 | AD20: ='TASTING COMPETITION'!E52 -> 0 | AE20: ='TASTING COMPETITION'!F52 -> 0 | AF20: ='TASTING COMPETITION'!G52 -> 0 | AG20: ='TASTING COMPETITION'!H52 -> 0 | ... AM20: ='TASTING COMPETITION'!N52 -> , , , , $
A21: ='TASTING COMPETITION'!$A$19 -> 0 | B21: ='TASTING COMPETITION'!$C$19 -> 0 | C21: ='TASTING COMPETITION'!$E$19 -> Select from drop down list: | D21: ='TASTING COMPETITION'!$F$19 -> 0 | E21: ='TASTING COMPETITION'!$H$19 -> 0 | F21: ='TASTING COMPETITION'!$I$19 -> 0 | G21: ='TASTING COMPETITION'!$A$22 -> 0 | H21: ='TASTING COMPETITION'!$B$22 -> 0 | I21: ='TASTING COMPETITION'!$C$22 -> 0 | J21: ='TASTING COMPETITION'!$F$22 -> 0 | K21: ='TASTING COMPETITION'!$H$22 -> 0 | L21: ='TASTING COMPETITION'!$J$22 -> 0 | M21: ='TASTING COMPETITION'!$A$25 -> 0 | N21: ='TASTING COMPETITION'!$B$25 -> 0 | O21: ='TASTING COMPETITION'!$C$25 -> 0 | P21: ='TASTING COMPETITION'!$F$25 -> 0 | Q21: ='TASTING COMPETITION'!$H$25 -> 0 | R21: ='TASTING COMPETITION'!$J$25 -> 0 | S21: ='TASTING COMPETITION'!$A$28 -> 0 | T21: ='TASTING COMPETITION'!C40 -> 0 | U21: ='TASTING COMPETITION'!$F$28 -> 0 | V21: ='TASTING COMPETITION'!$H$28 -> 0 | W21: ='TASTING COMPETITION'!$J$28 -> 0 | X21: ='TASTING COMPETITION'!$A$29 -> Select from drop down list | Y21: ='TASTING COMPETITION'!$A$45 -> WINE: Enter each product under the applicable wine classification code listed below. | Z21: ='TASTING COMPETITION'!A53 -> Select from drop down list | AA21: ='TASTING COMPETITION'!B53 -> 0 | AB21: ='TASTING COMPETITION'!C53 -> 0 | AC21: ='TASTING COMPETITION'!D53 -> 0 | AD21: ='TASTING COMPETITION'!E53 -> 0 | AE21: ='TASTING COMPETITION'!F53 -> 0 | AF21: ='TASTING COMPETITION'!G53 -> 0 | AG21: ='TASTING COMPETITION'!H53 -> 0 | ... AM21: ='TASTING COMPETITION'!N53 -> , , , , $
A22: ='TASTING COMPETITION'!$A$19 -> 0 | B22: ='TASTING COMPETITION'!$C$19 -> 0 | C22: ='TASTING COMPETITION'!$E$19 -> Select from drop down list: | D22: ='TASTING COMPETITION'!$F$19 -> 0 | E22: ='TASTING COMPETITION'!$H$19 -> 0 | F22: ='TASTING COMPETITION'!$I$19 -> 0 | G22: ='TASTING COMPETITION'!$A$22 -> 0 | H22: ='TASTING COMPETITION'!$B$22 -> 0 | I22: ='TASTING COMPETITION'!$C$22 -> 0 | J22: ='TASTING COMPETITION'!$F$22 -> 0 | K22: ='TASTING COMPETITION'!$H$22 -> 0 | L22: ='TASTING COMPETITION'!$J$22 -> 0 | M22: ='TASTING COMPETITION'!$A$25 -> 0 | N22: ='TASTING COMPETITION'!$B$25 -> 0 | O22: ='TASTING COMPETITION'!$C$25 -> 0 | P22: ='TASTING COMPETITION'!$F$25 -> 0 | Q22: ='TASTING COMPETITION'!$H$25 -> 0 | R22: ='TASTING COMPETITION'!$J$25 -> 0 | S22: ='TASTING COMPETITION'!$A$28 -> 0 | T22: ='TASTING COMPETITION'!C40 -> 0 | U22: ='TASTING COMPETITION'!$F$28 -> 0 | V22: ='TASTING COMPETITION'!$H$28 -> 0 | W22: ='TASTING COMPETITION'!$J$28 -> 0 | X22: ='TASTING COMPETITION'!$A$29 -> Select from drop down list | Y22: ='TASTING COMPETITION'!$A$45 -> WINE: Enter each product under the applicable wine classification code listed below. | Z22: ='TASTING COMPETITION'!A54 -> Select from drop down list | AA22: ='TASTING COMPETITION'!B54 -> 0 | AB22: ='TASTING COMPETITION'!C54 -> 0 | AC22: ='TASTING COMPETITION'!D54 -> 0 | AD22: ='TASTING COMPETITION'!E54 -> 0 | AE22: ='TASTING COMPETITION'!F54 -> 0 | AF22: ='TASTING COMPETITION'!G54 -> 0 | AG22: ='TASTING COMPETITION'!H54 -> 0 | ... AM22: ='TASTING COMPETITION'!N54 -> , , , , $
A23: ='TASTING COMPETITION'!$A$19 -> 0 | B23: ='TASTING COMPETITION'!$C$19 -> 0 | C23: ='TASTING COMPETITION'!$E$19 -> Select from drop down list: | D23: ='TASTING COMPETITION'!$F$19 -> 0 | E23: ='TASTING COMPETITION'!$H$19 -> 0 | F23: ='TASTING COMPETITION'!$I$19 -> 0 | G23: ='TASTING COMPETITION'!$A$22 -> 0 | H23: ='TASTING COMPETITION'!$B$22 -> 0 | I23: ='TASTING COMPETITION'!$C$22 -> 0 | J23: ='TASTING COMPETITION'!$F$22 -> 0 | K23: ='TASTING COMPETITION'!$H$22 -> 0 | L23: ='TASTING COMPETITION'!$J$22 -> 0 | M23: ='TASTING COMPETITION'!$A$25 -> 0 | N23: ='TASTING COMPETITION'!$B$25 -> 0 | O23: ='TASTING COMPETITION'!$C$25 -> 0 | P23: ='TASTING COMPETITION'!$F$25 -> 0 | Q23: ='TASTING COMPETITION'!$H$25 -> 0 | R23: ='TASTING COMPETITION'!$J$25 -> 0 | S23: ='TASTING COMPETITION'!$A$28 -> 0 | T23: ='TASTING COMPETITION'!C40 -> 0 | U23: ='TASTING COMPETITION'!$F$28 -> 0 | V23: ='TASTING COMPETITION'!$H$28 -> 0 | W23: ='TASTING COMPETITION'!$J$28 -> 0 | X23: ='TASTING COMPETITION'!$A$29 -> Select from drop down list | Y23: ='TASTING COMPETITION'!$A$45 -> WINE: Enter each product under the applicable wine classification code listed below. | Z23: ='TASTING COMPETITION'!A55 -> Select from drop down list | AA23: ='TASTING COMPETITION'!B55 -> 0 | AB23: ='TASTING COMPETITION'!C55 -> 0 | AC23: ='TASTING COMPETITION'!D55 -> 0 | AD23: ='TASTING COMPETITION'!E55 -> 0 | AE23: ='TASTING COMPETITION'!F55 -> 0 | AF23: ='TASTING COMPETITION'!G55 -> 0 | AG23: ='TASTING COMPETITION'!H55 -> 0 | ... AM23: ='TASTING COMPETITION'!N55 -> , , , , $
A24: ='TASTING COMPETITION'!$A$19 -> 0 | B24: ='TASTING COMPETITION'!$C$19 -> 0 | C24: ='TASTING COMPETITION'!$E$19 -> Select from drop down list: | D24: ='TASTING COMPETITION'!$F$19 -> 0 | E24: ='TASTING COMPETITION'!$H$19 -> 0 | F24: ='TASTING COMPETITION'!$I$19 -> 0 | G24: ='TASTING COMPETITION'!$A$22 -> 0 | H24: ='TASTING COMPETITION'!$B$22 -> 0 | I24: ='TASTING COMPETITION'!$C$22 -> 0 | J24: ='TASTING COMPETITION'!$F$22 -> 0 | K24: ='TASTING COMPETITION'!$H$22 -> 0 | L24: ='TASTING COMPETITION'!$J$22 -> 0 | M24: ='TASTING COMPETITION'!$A$25 -> 0 | N24: ='TASTING COMPETITION'!$B$25 -> 0 | O24: ='TASTING COMPETITION'!$C$25 -> 0 | P24: ='TASTING COMPETITION'!$F$25 -> 0 | Q24: ='TASTING COMPETITION'!$H$25 -> 0 | R24: ='TASTING COMPETITION'!$J$25 -> 0 | S24: ='TASTING COMPETITION'!$A$28 -> 0 | T24: ='TASTING COMPETITION'!C40 -> 0 | U24: ='TASTING COMPETITION'!$F$28 -> 0 | V24: ='TASTING COMPETITION'!$H$28 -> 0 | W24: ='TASTING COMPETITION'!$J$28 -> 0 | X24: ='TASTING COMPETITION'!$A$29 -> Select from drop down list | Y24: ='TASTING COMPETITION'!$A$45 -> WINE: Enter each product under the applicable wine classification code listed below. | Z24: ='TASTING COMPETITION'!A56 -> Select from drop down list | AA24: ='TASTING COMPETITION'!B56 -> 0 | AB24: ='TASTING COMPETITION'!C56 -> 0 | AC24: ='TASTING COMPETITION'!D56 -> 0 | AD24: ='TASTING COMPETITION'!E56 -> 0 | AE24: ='TASTING COMPETITION'!F56 -> 0 | AF24: ='TASTING COMPETITION'!G56 -> 0 | AG24: ='TASTING COMPETITION'!H56 -> 0 | ... AM24: ='TASTING COMPETITION'!N56 -> , , , , $
A25: ='TASTING COMPETITION'!$A$19 -> 0 | B25: ='TASTING COMPETITION'!$C$19 -> 0 | C25: ='TASTING COMPETITION'!$E$19 -> Select from drop down list: | D25: ='TASTING COMPETITION'!$F$19 -> 0 | E25: ='TASTING COMPETITION'!$H$19 -> 0 | F25: ='TASTING COMPETITION'!$I$19 -> 0 | G25: ='TASTING COMPETITION'!$A$22 -> 0 | H25: ='TASTING COMPETITION'!$B$22 -> 0 | I25: ='TASTING COMPETITION'!$C$22 -> 0 | J25: ='TASTING COMPETITION'!$F$22 -> 0 | K25: ='TASTING COMPETITION'!$H$22 -> 0 | L25: ='TASTING COMPETITION'!$J$22 -> 0 | M25: ='TASTING COMPETITION'!$A$25 -> 0 | N25: ='TASTING COMPETITION'!$B$25 -> 0 | O25: ='TASTING COMPETITION'!$C$25 -> 0 | P25: ='TASTING COMPETITION'!$F$25 -> 0 | Q25: ='TASTING COMPETITION'!$H$25 -> 0 | R25: ='TASTING COMPETITION'!$J$25 -> 0 | S25: ='TASTING COMPETITION'!$A$28 -> 0 | T25: ='TASTING COMPETITION'!C40 -> 0 | U25: ='TASTING COMPETITION'!$F$28 -> 0 | V25: ='TASTING COMPETITION'!$H$28 -> 0 | W25: ='TASTING COMPETITION'!$J$28 -> 0 | X25: ='TASTING COMPETITION'!$A$29 -> Select from drop down list | Y25: ='TASTING COMPETITION'!$A$45 -> WINE: Enter each product under the applicable wine classification code listed below. | Z25: ='TASTING COMPETITION'!A57 -> Select from drop down list | AA25: ='TASTING COMPETITION'!B57 -> 0 | AB25: ='TASTING COMPETITION'!C57 -> 0 | AC25: ='TASTING COMPETITION'!D57 -> 0 | AD25: ='TASTING COMPETITION'!E57 -> 0 | AE25: ='TASTING COMPETITION'!F57 -> 0 | AF25: ='TASTING COMPETITION'!G57 -> 0 | AG25: ='TASTING COMPETITION'!H57 -> 0 | ... AM25: ='TASTING COMPETITION'!N57 -> , , , , $
F38: .
