Workbook

Sheet Alcohol Beverage Product List
A1: #VALUE!
A3: FORM SUBMISSION DEADLINE: Friday, January 8, 2027
A4: DEADLINE FOR RECEIPT OF PRODUCT BY WSWA WHOLESALERS (Reyes or SGWS): January 8. Late fees will apply January 9-15
A6: FORM REQUIREMENTS: - All companies sending alcoholic beverage product to WSWA Access LIVE must complete this list. This requirement applies to exhibitors with booths/suites containing alcoholic beverage samples, as well as sponsors of receptions that include alcoholic products. - If your company will not be sending alcohol beverage, please email hanna@wswa.org. - Failure to submit this form may result in delays to your product delivery onsite. - If you will be utilizing multiple Texas Wholesalers, please submit a separate form for each wholesaler. - If you need to make changes to a previously submitted list, please modify your existing list and e-mail to hanna@wswa.org. Indicate in your email that the new list should replace your previously submitted list - please don't submit incomplete or partial lists.
A7: PRODUCT DESTINATION LABEL: - Every case MUST contain a Product Destination Label affixed to the side of each box. This will be utilized onsite to ensure your product arrives to the proper destination at Access LIVE. The Company Name on each label must match the Company Name registered for Access LIVE. Destination labels can be obtained at accesslive.wswa.org. - If your product will be pulled from your wholesaler, please email them the applicable destination label(s) to affix to each case.
A8: TASTING COMPETITION ENTRIES: - If you have entered The Tasting Competition, the product samples MUST be sent in a separate case than product for your booth/suite. The tasting competition will take place prior to the start of Access LIVE and must be packaged separately. - Failure to follow these instructions will result in your entry being disqualified from the competition. Entry fees are non-refundable.
A9: FORM DEADLINE: - Submit this form no later than January 8th once you have finalized your alcohol product shipment to your wholesaler, or your Product Pull Sheet if your alcohol is in inventory in a Texas wholesaler's warehouse. - Ensure you have completed all other applicable forms required by your wholesaler including payment of wholesaler handling fees and COLA Waiver as applicable.
A10: TEXAS WHOLESALER: All Alcohol Beverage Product must be sent through a licensed Texas wholesaler and in compliance with the WSWA Alcohol Beverage Product Handling Guidelines. Alcohol Beverage cannot be direct shipped, hand delivered or walked onto Access LIVE. ~ Other Wholesalers: If your Texas wholesaler is not Southern Glazer’s Wine & Spirits (SGWS) or Reyes Beverage Group, please coordinate directly with your wholesaler and provide their contact information to Leigh Burte with Freeman at leigh.burte@freeman.com. Freeman will then work directly with your wholesaler to schedule delivery to the Gaylord Texan loading dock on Tuesday, January 26.
A11: FORM INSTRUCTIONS:
A12: STEP 1: Type directly into the grey fields below or select an answer from the drop down box*. Complete all three sections of the form.
A13: STEP 2: Save the form as an excel spreadsheet and name the file with your company name.
A14: STEP 3: E-mail the completed form in EXCEL format (don't submit hand written, PDF or scanned forms) to hanna@wswa.org no later than January 8th.
A16: SECTION 1: COMPANY INFORMATION: Ensure the company name registered for Access LIVE is placed on all Destination Labels to ensure product is delivered correctly.
... A28: SECTION 2: TEXAS WHOLESALER:
A29: Texas Wholesaler Company Name: | B29: Click to select from drop down list for SGWS/BBG or type into this field for other wholesalers
A30: Product Shipping Method:
A31: IF WHOLESALER IS OTHER THAN SGWS/REYES COMPLETE SECTION BELOW. Leave blank if SGWS/reyes:
A32: Wholesaler Contact First & Last Name:
A33: Wholesaler E-mail:
A34: Wholesaler Phone:
A35: Confirm Wholesaler Delivery Date at Access LIVE:
A36: *If your shipment includes Tasting Competition product, those samples must boxed and labeled separate from booth/suite product, and wholesaler must deliver to Gaylord Texan on January 26th.
A38: SECTION 4: ALCOHOL BEVERAGE PRODUCT
A39: ~ List the number of total boxes that will be received per destination (i.e. Hospitality Suite, Tasting Competition etc.). The Total Number of Boxes will auto sum in the blue area below. This number will indicate the total number of boxes that will be delivered by your wholesaler to Access LIVE for the registered company. Enter whole number only. ~ Wine & Spirits Tasting Competition product must be boxed separate from booth/suite product AND the competition destination label must be affixed to ensure early delivery of your product. ~ Use one row per destination. Only use as many rows as needed.
A40: Today's Date (or date of ABL submission)
A41: Product Destination at Access LIVE: Use one row per destination, only use as many rows as needed. You must affix the Destination Label for each location to each box. | B41: Product Brand Names: List the bottle/box quantity, product brand names and product type in each box separated by a comma. | C41: # Boxes per Destination (whole number only):
A42: EXAMPLE: Access HQ Booth | B42: 2 box X Brand Vodka, 1 box X Brand Gin, 1 mixed box: X Brand Rum (6 bottles), X Brand Whiskey (6 bottles) | C42: 4
A43: Click to select from drop down list
A44: Click to select from drop down list
A45: Click to select from drop down list
A46: Click to select from drop down list
A47: TOTAL NUMBER OF BOXES: | C47: =SUM(C43:C46) -> 0
A50: *DROP DOWN INSTRUCTIONS: To utilize the drop down boxes, please click on the cell, then click on the white arrow box located to the right of the cell to view the list of options. Click on the applicable option. If your option is not listed please type directly in the cell. If you cannot see a drop box arrow, you may be using a prior version of excel that does not support this function. If so, please copy and paste from the drop down key below.
A51: DROP DOWN KEY: If the drop down fields don't work on your version of excel, please copy and paste from the key below:
A52: Click to select from drop down list
A53: ***Registration Type***
A54: Click to select from drop down list
A55: Access HQ Exhibit Hall Booth - Longhorn Hall
A56: Main Street Hospitality Suite (Convention Center)
A57: Main Street Hospitality Suite (Lone Star Tower)
A58: Sponsor
A59: Other- type directly into the form
A60: Click to select from drop down list
A61: ***Texas Wholesaler***
... A90: Other- type directly into the form

Sheet 10.2
B1: Name of Exhibiting Company: | C1: Name of Parent Company (if applicable): | D1: Registration Type: | E1: Booth/Suite Location: | F1: Contact Name (first and last name): | G1: Contact E-mail: | H1: Contact Telephone: | I1: On-site Contact Name: (Contact available on-site at Convention in Las Vegas) | J1: On-site Contact E-mail: | K1: On-site Contact Cell Phone: | L1: Wholesaler Company Name: | M1: Product Shipping Method: | N1: Wholesaler Contact Name (first and last name): | O1: Wholesaler E-mail: | P1: Wholesaler Telephone: | Q1: Wholesaler Delivery Date & Time | R1: Today's Date (or date of ABL submission) | S1: Product Destination at Access LIVE | T1: Product Brand Names: (list the brand names separated by a comma) | U1: Number of Cases Per Destination: | V1: TOTAL NUMBER OF CASES:
A2: 1 | B2: ='Alcohol Beverage Product List'!$B$17 -> 0 | C2: ='Alcohol Beverage Product List'!$B$18 -> 0 | D2: ='Alcohol Beverage Product List'!$B$19 -> 0 | E2: ='Alcohol Beverage Product List'!$B$20 -> 0 | F2: ='Alcohol Beverage Product List'!$B$21 -> 0 | G2: ='Alcohol Beverage Product List'!$B$22 -> 0 | H2: ='Alcohol Beverage Product List'!$B$23 -> 0 | I2: ='Alcohol Beverage Product List'!$B$24 -> 0 | J2: ='Alcohol Beverage Product List'!$B$25 -> 0 | K2: ='Alcohol Beverage Product List'!$B$26 | L2: ='Alcohol Beverage Product List'!$B$29 -> Click to select from drop down list for SGWS/BBG or type into this field for other wholesalers | M2: ='Alcohol Beverage Product List'!$B$30 | N2: ='Alcohol Beverage Product List'!$B$32 | O2: ='Alcohol Beverage Product List'!$B$33 | P2: ='Alcohol Beverage Product List'!$B$34 | Q2: ='Alcohol Beverage Product List'!$B$35 | R2: ='Alcohol Beverage Product List'!$B$40 | S2: ='Alcohol Beverage Product List'!A43 -> Click to select from drop down list | T2: ='Alcohol Beverage Product List'!B43 | U2: ='Alcohol Beverage Product List'!C43 | V2: ='Alcohol Beverage Product List'!$C$47 -> 0
A3: 2 | B3: ='Alcohol Beverage Product List'!$B$17 -> 0 | C3: ='Alcohol Beverage Product List'!$B$18 -> 0 | D3: ='Alcohol Beverage Product List'!$B$19 -> 0 | E3: ='Alcohol Beverage Product List'!$B$20 -> 0 | F3: ='Alcohol Beverage Product List'!$B$21 -> 0 | G3: ='Alcohol Beverage Product List'!$B$22 -> 0 | H3: ='Alcohol Beverage Product List'!$B$23 -> 0 | I3: ='Alcohol Beverage Product List'!$B$24 -> 0 | J3: ='Alcohol Beverage Product List'!$B$25 -> 0 | K3: ='Alcohol Beverage Product List'!$B$26 | L3: ='Alcohol Beverage Product List'!$B$29 -> Click to select from drop down list for SGWS/BBG or type into this field for other wholesalers | M3: ='Alcohol Beverage Product List'!$B$30 | N3: ='Alcohol Beverage Product List'!$B$32 | O3: ='Alcohol Beverage Product List'!$B$33 | P3: ='Alcohol Beverage Product List'!$B$34 | Q3: ='Alcohol Beverage Product List'!$B$35 | R3: ='Alcohol Beverage Product List'!$B$40 | S3: ='Alcohol Beverage Product List'!A44 -> Click to select from drop down list | T3: ='Alcohol Beverage Product List'!B44 | U3: ='Alcohol Beverage Product List'!C44
A4: 3 | B4: ='Alcohol Beverage Product List'!$B$17 -> 0 | C4: ='Alcohol Beverage Product List'!$B$18 -> 0 | D4: ='Alcohol Beverage Product List'!$B$19 -> 0 | E4: ='Alcohol Beverage Product List'!$B$20 -> 0 | F4: ='Alcohol Beverage Product List'!$B$21 -> 0 | G4: ='Alcohol Beverage Product List'!$B$22 -> 0 | H4: ='Alcohol Beverage Product List'!$B$23 -> 0 | I4: ='Alcohol Beverage Product List'!$B$24 -> 0 | J4: ='Alcohol Beverage Product List'!$B$25 -> 0 | K4: ='Alcohol Beverage Product List'!$B$26 | L4: ='Alcohol Beverage Product List'!$B$29 -> Click to select from drop down list for SGWS/BBG or type into this field for other wholesalers | M4: ='Alcohol Beverage Product List'!$B$30 | N4: ='Alcohol Beverage Product List'!$B$32 | O4: ='Alcohol Beverage Product List'!$B$33 | P4: ='Alcohol Beverage Product List'!$B$34 | Q4: ='Alcohol Beverage Product List'!$B$35 | R4: ='Alcohol Beverage Product List'!$B$40 | S4: ='Alcohol Beverage Product List'!A45 -> Click to select from drop down list | T4: ='Alcohol Beverage Product List'!B45 -> 0 | U4: ='Alcohol Beverage Product List'!C45 -> 0
A5: 4 | B5: ='Alcohol Beverage Product List'!$B$17 -> 0 | C5: ='Alcohol Beverage Product List'!$B$18 -> 0 | D5: ='Alcohol Beverage Product List'!$B$19 -> 0 | E5: ='Alcohol Beverage Product List'!$B$20 -> 0 | F5: ='Alcohol Beverage Product List'!$B$21 -> 0 | G5: ='Alcohol Beverage Product List'!$B$22 -> 0 | H5: ='Alcohol Beverage Product List'!$B$23 -> 0 | I5: ='Alcohol Beverage Product List'!$B$24 -> 0 | J5: ='Alcohol Beverage Product List'!$B$25 -> 0 | K5: ='Alcohol Beverage Product List'!$B$26 | L5: ='Alcohol Beverage Product List'!$B$29 -> Click to select from drop down list for SGWS/BBG or type into this field for other wholesalers | M5: ='Alcohol Beverage Product List'!$B$30 | N5: ='Alcohol Beverage Product List'!$B$32 | O5: ='Alcohol Beverage Product List'!$B$33 | P5: ='Alcohol Beverage Product List'!$B$34 | Q5: ='Alcohol Beverage Product List'!$B$35 | R5: ='Alcohol Beverage Product List'!$B$40 | S5: ='Alcohol Beverage Product List'!A46 -> Click to select from drop down list | T5: ='Alcohol Beverage Product List'!B46 -> 0 | U5: ='Alcohol Beverage Product List'!C46 -> 0
