Workbook

Sheet Tax Form
A1: Texas Wholesaler Tax Form & Supplier Information Sheet
A2: WSWA Access LIVE,Gaylord Texan Resort & Convention Center, February 1-4, 2027
A4: FORM INSTRUCTIONS
A5: 1. This form must be completed prior to shipping your product to Reyes Beverage Group Spirits & Wine of Texas. You will receive authorization to ship once your invoice has been paid.
A6: 2. Deadline for receipt of paperwork, payment and product is Friday, January 8, 2027.
A7: 3. Complete the fields in yellow, submit payment via ACH and email this form to wtyoung@reyesholdings.com.
A8: 4. When shipping product, affix the applicable WSWA Destination Label to the side of each box to ensure delivery to the correct onsite location. Labels available at accesslive.wswa.org.
A9: 5. Complete the WSWA Alcohol Beverage List and email to Hanna@wswa.org by Friday, January 8, 2027. Form available at accesslive.wswa.org.
A11: COMPANY INFORMATION
A12: Supplier Company Name
A13: Parent Company (if applicable)
A14: Registration Type:
... A28: Tracking Number
A29: Wholesaler Contact Information: | B29: RBG Spirits & Wine of Texas - Reyes Beverage Group | F29: REYES BEVERAGE GROUP TEXAS
B30: 1010 Isuzu Pkwy | F30: Address
B31: Grand Prairie, Texas 75050 | F31: City/State
B32: Contact: Todd Young | F32: Contact
B33: Email: wtyoung@reyesholdings.com | F33: Email
B34: c. 469-358-1443 o. 972-595-6451
B35: Website: reyesbeveragegroup.com | F35: Phone
A37: PRODUCT LIST, TAX & HANDLING
A38: Payment ACH Confirmation#:
A39: Instructions: Type into the yellow fields below. Grey fields auto-calculate. Select from drop-down lists where provided. Bottle/can size may be selected in mL/L or common beer can sizes in ounces; conversions are automatic. 50 mL bottles are taxed at $0.05 per bottle. Use only the rows you need.
A40: PRODUCT NAME | B40: PRODUCT TYPE & TAX RATE CATEGORY (BASED ON ABV) | C40: ABV % | D40: QUANTITY OF BOTTLES/ CANS | E40: BOTTLE/CAN SIZE | F40: GALLONS PER UNIT (helper) | G40: TOTAL GALLONS | H40: TAX RATE | I40: TOTAL TAX DUE PER PRODUCT
A41: Example: X Vodka | B41: LIQUOR ($2.40 per gallon) | C41: 0.4 | D41: 12 | E41: 750 mL | F41: =IFERROR(VLOOKUP(E41,$A$102:$B$121,2,FALSE)*0.264172,0) -> 0.198129 | G41: =IFERROR(D41*VLOOKUP(E41,$A$102:$B$121,2,FALSE)*0.264172,0) -> 2.377548 | H41: =IF(E41=$A$103,0.05,IFERROR(IF(B41=$A$88,2.4,IF(B41=$A$89,0.204,IF(B41=$A$90,0.408,IF(B41=$A$91,0.516,IF(B41=$A$92,0.193548,""))))),"")) -> 2.4 | I41: =IFERROR(IF(E41=$A$103,D41*H41,G41*H41),0) -> 5.7061152
A42: 0 | B42: Click to select from drop down list | C42: 0 | D42: 0 | E42: 750 mL | F42: =IFERROR(VLOOKUP(E42,$A$102:$B$121,2,FALSE)*0.264172,0) -> 0.198129 | G42: =IFERROR(D42*VLOOKUP(E42,$A$102:$B$121,2,FALSE)*0.264172,0) -> 0 | H42: =IF(E42=$A$103,0.05,IFERROR(IF(B42=$A$88,2.4,IF(B42=$A$89,0.204,IF(B42=$A$90,0.408,IF(B42=$A$91,0.516,IF(B42=$A$92,0.193548,""))))),"")) | I42: =IFERROR(IF(E42=$A$103,D42*H42,G42*H42),0) -> 0
B43: Click to select from drop down list | E43: Click to select from drop down list | F43: =IFERROR(VLOOKUP(E43,$A$102:$B$121,2,FALSE)*0.264172,0) -> 0 | G43: =IFERROR(D43*VLOOKUP(E43,$A$102:$B$121,2,FALSE)*0.264172,0) -> 0 | H43: =IF(E43=$A$103,0.05,IFERROR(IF(B43=$A$88,2.4,IF(B43=$A$89,0.204,IF(B43=$A$90,0.408,IF(B43=$A$91,0.516,IF(B43=$A$92,0.193548,""))))),"")) | I43: =IFERROR(IF(E43=$A$103,D43*H43,G43*H43),0) -> 0
B44: Click to select from drop down list | E44: Click to select from drop down list | F44: =IFERROR(VLOOKUP(E44,$A$102:$B$121,2,FALSE)*0.264172,0) -> 0 | G44: =IFERROR(D44*VLOOKUP(E44,$A$102:$B$121,2,FALSE)*0.264172,0) -> 0 | H44: =IF(E44=$A$103,0.05,IFERROR(IF(B44=$A$88,2.4,IF(B44=$A$89,0.204,IF(B44=$A$90,0.408,IF(B44=$A$91,0.516,IF(B44=$A$92,0.193548,""))))),"")) | I44: =IFERROR(IF(E44=$A$103,D44*H44,G44*H44),0) -> 0
B45: Click to select from drop down list | E45: Click to select from drop down list | F45: =IFERROR(VLOOKUP(E45,$A$102:$B$121,2,FALSE)*0.264172,0) -> 0 | G45: =IFERROR(D45*VLOOKUP(E45,$A$102:$B$121,2,FALSE)*0.264172,0) -> 0 | H45: =IF(E45=$A$103,0.05,IFERROR(IF(B45=$A$88,2.4,IF(B45=$A$89,0.204,IF(B45=$A$90,0.408,IF(B45=$A$91,0.516,IF(B45=$A$92,0.193548,""))))),"")) | I45: =IFERROR(IF(E45=$A$103,D45*H45,G45*H45),0) -> 0
B46: Click to select from drop down list | E46: Click to select from drop down list | F46: =IFERROR(VLOOKUP(E46,$A$102:$B$121,2,FALSE)*0.264172,0) -> 0 | G46: =IFERROR(D46*VLOOKUP(E46,$A$102:$B$121,2,FALSE)*0.264172,0) -> 0 | H46: =IF(E46=$A$103,0.05,IFERROR(IF(B46=$A$88,2.4,IF(B46=$A$89,0.204,IF(B46=$A$90,0.408,IF(B46=$A$91,0.516,IF(B46=$A$92,0.193548,""))))),"")) | I46: =IFERROR(IF(E46=$A$103,D46*H46,G46*H46),0) -> 0
B47: Click to select from drop down list | E47: Click to select from drop down list | F47: =IFERROR(VLOOKUP(E47,$A$102:$B$121,2,FALSE)*0.264172,0) -> 0 | G47: =IFERROR(D47*VLOOKUP(E47,$A$102:$B$121,2,FALSE)*0.264172,0) -> 0 | H47: =IF(E47=$A$103,0.05,IFERROR(IF(B47=$A$88,2.4,IF(B47=$A$89,0.204,IF(B47=$A$90,0.408,IF(B47=$A$91,0.516,IF(B47=$A$92,0.193548,""))))),"")) | I47: =IFERROR(IF(E47=$A$103,D47*H47,G47*H47),0) -> 0
B48: Click to select from drop down list | E48: Click to select from drop down list | F48: =IFERROR(VLOOKUP(E48,$A$102:$B$121,2,FALSE)*0.264172,0) -> 0 | G48: =IFERROR(D48*VLOOKUP(E48,$A$102:$B$121,2,FALSE)*0.264172,0) -> 0 | H48: =IF(E48=$A$103,0.05,IFERROR(IF(B48=$A$88,2.4,IF(B48=$A$89,0.204,IF(B48=$A$90,0.408,IF(B48=$A$91,0.516,IF(B48=$A$92,0.193548,""))))),"")) | I48: =IFERROR(IF(E48=$A$103,D48*H48,G48*H48),0) -> 0
B49: Click to select from drop down list | E49: Click to select from drop down list | F49: =IFERROR(VLOOKUP(E49,$A$102:$B$121,2,FALSE)*0.264172,0) -> 0 | G49: =IFERROR(D49*VLOOKUP(E49,$A$102:$B$121,2,FALSE)*0.264172,0) -> 0 | H49: =IF(E49=$A$103,0.05,IFERROR(IF(B49=$A$88,2.4,IF(B49=$A$89,0.204,IF(B49=$A$90,0.408,IF(B49=$A$91,0.516,IF(B49=$A$92,0.193548,""))))),"")) | I49: =IFERROR(IF(E49=$A$103,D49*H49,G49*H49),0) -> 0
B50: Click to select from drop down list | E50: Click to select from drop down list | F50: =IFERROR(VLOOKUP(E50,$A$102:$B$121,2,FALSE)*0.264172,0) -> 0 | G50: =IFERROR(D50*VLOOKUP(E50,$A$102:$B$121,2,FALSE)*0.264172,0) -> 0 | H50: =IF(E50=$A$103,0.05,IFERROR(IF(B50=$A$88,2.4,IF(B50=$A$89,0.204,IF(B50=$A$90,0.408,IF(B50=$A$91,0.516,IF(B50=$A$92,0.193548,""))))),"")) | I50: =IFERROR(IF(E50=$A$103,D50*H50,G50*H50),0) -> 0
B51: Click to select from drop down list | E51: Click to select from drop down list | F51: =IFERROR(VLOOKUP(E51,$A$102:$B$121,2,FALSE)*0.264172,0) -> 0 | G51: =IFERROR(D51*VLOOKUP(E51,$A$102:$B$121,2,FALSE)*0.264172,0) -> 0 | H51: =IF(E51=$A$103,0.05,IFERROR(IF(B51=$A$88,2.4,IF(B51=$A$89,0.204,IF(B51=$A$90,0.408,IF(B51=$A$91,0.516,IF(B51=$A$92,0.193548,""))))),"")) | I51: =IFERROR(IF(E51=$A$103,D51*H51,G51*H51),0) -> 0
B52: Click to select from drop down list | E52: Click to select from drop down list | F52: =IFERROR(VLOOKUP(E52,$A$102:$B$121,2,FALSE)*0.264172,0) -> 0 | G52: =IFERROR(D52*VLOOKUP(E52,$A$102:$B$121,2,FALSE)*0.264172,0) -> 0 | H52: =IF(E52=$A$103,0.05,IFERROR(IF(B52=$A$88,2.4,IF(B52=$A$89,0.204,IF(B52=$A$90,0.408,IF(B52=$A$91,0.516,IF(B52=$A$92,0.193548,""))))),"")) | I52: =IFERROR(IF(E52=$A$103,D52*H52,G52*H52),0) -> 0
B53: Click to select from drop down list | E53: Click to select from drop down list | F53: =IFERROR(VLOOKUP(E53,$A$102:$B$121,2,FALSE)*0.264172,0) -> 0 | G53: =IFERROR(D53*VLOOKUP(E53,$A$102:$B$121,2,FALSE)*0.264172,0) -> 0 | H53: =IF(E53=$A$103,0.05,IFERROR(IF(B53=$A$88,2.4,IF(B53=$A$89,0.204,IF(B53=$A$90,0.408,IF(B53=$A$91,0.516,IF(B53=$A$92,0.193548,""))))),"")) | I53: =IFERROR(IF(E53=$A$103,D53*H53,G53*H53),0) -> 0
B54: Click to select from drop down list | E54: Click to select from drop down list | F54: =IFERROR(VLOOKUP(E54,$A$102:$B$121,2,FALSE)*0.264172,0) -> 0 | G54: =IFERROR(D54*VLOOKUP(E54,$A$102:$B$121,2,FALSE)*0.264172,0) -> 0 | H54: =IF(E54=$A$103,0.05,IFERROR(IF(B54=$A$88,2.4,IF(B54=$A$89,0.204,IF(B54=$A$90,0.408,IF(B54=$A$91,0.516,IF(B54=$A$92,0.193548,""))))),"")) | I54: =IFERROR(IF(E54=$A$103,D54*H54,G54*H54),0) -> 0
... B71: Click to select from drop down list | E71: Click to select from drop down list | F71: =IFERROR(VLOOKUP(E71,$A$102:$B$121,2,FALSE)*0.264172,0) -> 0 | G71: =IFERROR(D71*VLOOKUP(E71,$A$102:$B$121,2,FALSE)*0.264172,0) -> 0 | H71: =IF(E71=$A$103,0.05,IFERROR(IF(B71=$A$88,2.4,IF(B71=$A$89,0.204,IF(B71=$A$90,0.408,IF(B71=$A$91,0.516,IF(B71=$A$92,0.193548,""))))),"")) | I71: =IFERROR(IF(E71=$A$103,D71*H71,G71*H71),0) -> 0
A72: BOX HANDLING & DELIVERY FEE | B72: Total number of boxes (until January 8, 2027) | C72: 0 | D72: 35 | E72: per box | G72: Total Taxes | I72: =SUM(I42:I71) -> 0
...

Sheet 10.7
A1: Supplier Company Name | B1: Parent Company (if applicable) | C1: Registration Type: | D1: Booth # or Suite #/Name: | E1: Address: | F1: City, State, Zip | G1: Name: | H1: Phone: | I1: Fax: | J1: Email | K1: Shipping Date to Wholesaler: | L1: Shipping Carrier | M1: Tracking Number | N1: PRODUCT NAME | O1: TAX RATE CATEGORY BASED ON ABV | P1: ABV % | Q1: QUANTITY OF BOTTLES/ CANS | R1: BOTTLE SIZE or CAN SIZE IN LITERS | S1: TOTAL GALLONS | T1: TAX PER GALLON | U1: TOTAL TAX DUE | V1: Total Taxes | W1: Total Handling Fee | X1: Total Late Fee (if applicable) | Y1: TOTAL
A2: ='Tax Form'!$B$12 -> 0 | B2: ='Tax Form'!$B$13 -> 0 | C2: ='Tax Form'!$B$14 -> 0 | D2: ='Tax Form'!$B$15 -> 0 | E2: ='Tax Form'!$B$16 -> 0 | F2: ='Tax Form'!$B$17 -> 0 | G2: ='Tax Form'!$B$20 -> 0 | H2: ='Tax Form'!$B$21 -> 0 | I2: ='Tax Form'!$B$22 -> 0 | J2: ='Tax Form'!$B$23 -> 0 | K2: ='Tax Form'!$B$26 -> 0 | L2: ='Tax Form'!$B$27 -> 0 | M2: ='Tax Form'!$B$28 -> 0 | N2: ='Tax Form'!A42 -> 0 | O2: ='Tax Form'!B42 -> Click to select from drop down list | P2: ='Tax Form'!C42 -> 0 | Q2: ='Tax Form'!D42 -> 0 | R2: ='Tax Form'!E42 -> 750 mL | S2: ='Tax Form'!G42 -> 0 | T2: ='Tax Form'!H42 | U2: ='Tax Form'!I42 -> 0 | V2: ='Tax Form'!I72 -> 0 | W2: ='Tax Form'!I73 -> 0 | X2: ='Tax Form'!I74 -> 0 | Y2: ='Tax Form'!I75 -> 0
A3: ='Tax Form'!$B$12 -> 0 | B3: ='Tax Form'!$B$13 -> 0 | C3: ='Tax Form'!$B$14 -> 0 | D3: ='Tax Form'!$B$15 -> 0 | E3: ='Tax Form'!$B$16 -> 0 | F3: ='Tax Form'!$B$17 -> 0 | G3: ='Tax Form'!$B$20 -> 0 | H3: ='Tax Form'!$B$21 -> 0 | I3: ='Tax Form'!$B$22 -> 0 | J3: ='Tax Form'!$B$23 -> 0 | K3: ='Tax Form'!$B$26 -> 0 | L3: ='Tax Form'!$B$27 -> 0 | M3: ='Tax Form'!$B$28 -> 0 | N3: ='Tax Form'!A43 -> 0 | O3: ='Tax Form'!B43 -> Click to select from drop down list | P3: ='Tax Form'!C43 -> 0 | Q3: ='Tax Form'!D43 -> 0 | R3: ='Tax Form'!E43 -> Click to select from drop down list | S3: ='Tax Form'!G43 -> 0 | T3: ='Tax Form'!H43 | U3: ='Tax Form'!I43 -> 0
A4: ='Tax Form'!$B$12 -> 0 | B4: ='Tax Form'!$B$13 -> 0 | C4: ='Tax Form'!$B$14 -> 0 | D4: ='Tax Form'!$B$15 -> 0 | E4: ='Tax Form'!$B$16 -> 0 | F4: ='Tax Form'!$B$17 -> 0 | G4: ='Tax Form'!$B$20 -> 0 | H4: ='Tax Form'!$B$21 -> 0 | I4: ='Tax Form'!$B$22 -> 0 | J4: ='Tax Form'!$B$23 -> 0 | K4: ='Tax Form'!$B$26 -> 0 | L4: ='Tax Form'!$B$27 -> 0 | M4: ='Tax Form'!$B$28 -> 0 | N4: ='Tax Form'!A44 -> 0 | O4: ='Tax Form'!B44 -> Click to select from drop down list | P4: ='Tax Form'!C44 -> 0 | Q4: ='Tax Form'!D44 -> 0 | R4: ='Tax Form'!E44 -> Click to select from drop down list | S4: ='Tax Form'!G44 -> 0 | T4: ='Tax Form'!H44 | U4: ='Tax Form'!I44 -> 0
A5: ='Tax Form'!$B$12 -> 0 | B5: ='Tax Form'!$B$13 -> 0 | C5: ='Tax Form'!$B$14 -> 0 | D5: ='Tax Form'!$B$15 -> 0 | E5: ='Tax Form'!$B$16 -> 0 | F5: ='Tax Form'!$B$17 -> 0 | G5: ='Tax Form'!$B$20 -> 0 | H5: ='Tax Form'!$B$21 -> 0 | I5: ='Tax Form'!$B$22 -> 0 | J5: ='Tax Form'!$B$23 -> 0 | K5: ='Tax Form'!$B$26 -> 0 | L5: ='Tax Form'!$B$27 -> 0 | M5: ='Tax Form'!$B$28 -> 0 | N5: ='Tax Form'!A45 -> 0 | O5: ='Tax Form'!B45 -> Click to select from drop down list | P5: ='Tax Form'!C45 -> 0 | Q5: ='Tax Form'!D45 -> 0 | R5: ='Tax Form'!E45 -> Click to select from drop down list | S5: ='Tax Form'!G45 -> 0 | T5: ='Tax Form'!H45 | U5: ='Tax Form'!I45 -> 0
A6: ='Tax Form'!$B$12 -> 0 | B6: ='Tax Form'!$B$13 -> 0 | C6: ='Tax Form'!$B$14 -> 0 | D6: ='Tax Form'!$B$15 -> 0 | E6: ='Tax Form'!$B$16 -> 0 | F6: ='Tax Form'!$B$17 -> 0 | G6: ='Tax Form'!$B$20 -> 0 | H6: ='Tax Form'!$B$21 -> 0 | I6: ='Tax Form'!$B$22 -> 0 | J6: ='Tax Form'!$B$23 -> 0 | K6: ='Tax Form'!$B$26 -> 0 | L6: ='Tax Form'!$B$27 -> 0 | M6: ='Tax Form'!$B$28 -> 0 | N6: ='Tax Form'!A46 -> 0 | O6: ='Tax Form'!B46 -> Click to select from drop down list | P6: ='Tax Form'!C46 -> 0 | Q6: ='Tax Form'!D46 -> 0 | R6: ='Tax Form'!E46 -> Click to select from drop down list | S6: ='Tax Form'!G46 -> 0 | T6: ='Tax Form'!H46 | U6: ='Tax Form'!I46 -> 0
A7: ='Tax Form'!$B$12 -> 0 | B7: ='Tax Form'!$B$13 -> 0 | C7: ='Tax Form'!$B$14 -> 0 | D7: ='Tax Form'!$B$15 -> 0 | E7: ='Tax Form'!$B$16 -> 0 | F7: ='Tax Form'!$B$17 -> 0 | G7: ='Tax Form'!$B$20 -> 0 | H7: ='Tax Form'!$B$21 -> 0 | I7: ='Tax Form'!$B$22 -> 0 | J7: ='Tax Form'!$B$23 -> 0 | K7: ='Tax Form'!$B$26 -> 0 | L7: ='Tax Form'!$B$27 -> 0 | M7: ='Tax Form'!$B$28 -> 0 | N7: ='Tax Form'!A47 -> 0 | O7: ='Tax Form'!B47 -> Click to select from drop down list | P7: ='Tax Form'!C47 -> 0 | Q7: ='Tax Form'!D47 -> 0 | R7: ='Tax Form'!E47 -> Click to select from drop down list | S7: ='Tax Form'!G47 -> 0 | T7: ='Tax Form'!H47 | U7: ='Tax Form'!I47 -> 0
A8: ='Tax Form'!$B$12 -> 0 | B8: ='Tax Form'!$B$13 -> 0 | C8: ='Tax Form'!$B$14 -> 0 | D8: ='Tax Form'!$B$15 -> 0 | E8: ='Tax Form'!$B$16 -> 0 | F8: ='Tax Form'!$B$17 -> 0 | G8: ='Tax Form'!$B$20 -> 0 | H8: ='Tax Form'!$B$21 -> 0 | I8: ='Tax Form'!$B$22 -> 0 | J8: ='Tax Form'!$B$23 -> 0 | K8: ='Tax Form'!$B$26 -> 0 | L8: ='Tax Form'!$B$27 -> 0 | M8: ='Tax Form'!$B$28 -> 0 | N8: ='Tax Form'!A48 -> 0 | O8: ='Tax Form'!B48 -> Click to select from drop down list | P8: ='Tax Form'!C48 -> 0 | Q8: ='Tax Form'!D48 -> 0 | R8: ='Tax Form'!E48 -> Click to select from drop down list | S8: ='Tax Form'!G48 -> 0 | T8: ='Tax Form'!H48 | U8: ='Tax Form'!I48 -> 0
A9: ='Tax Form'!$B$12 -> 0 | B9: ='Tax Form'!$B$13 -> 0 | C9: ='Tax Form'!$B$14 -> 0 | D9: ='Tax Form'!$B$15 -> 0 | E9: ='Tax Form'!$B$16 -> 0 | F9: ='Tax Form'!$B$17 -> 0 | G9: ='Tax Form'!$B$20 -> 0 | H9: ='Tax Form'!$B$21 -> 0 | I9: ='Tax Form'!$B$22 -> 0 | J9: ='Tax Form'!$B$23 -> 0 | K9: ='Tax Form'!$B$26 -> 0 | L9: ='Tax Form'!$B$27 -> 0 | M9: ='Tax Form'!$B$28 -> 0 | N9: ='Tax Form'!A49 -> 0 | O9: ='Tax Form'!B49 -> Click to select from drop down list | P9: ='Tax Form'!C49 -> 0 | Q9: ='Tax Form'!D49 -> 0 | R9: ='Tax Form'!E49 -> Click to select from drop down list | S9: ='Tax Form'!G49 -> 0 | T9: ='Tax Form'!H49 | U9: ='Tax Form'!I49 -> 0
A10: ='Tax Form'!$B$12 -> 0 | B10: ='Tax Form'!$B$13 -> 0 | C10: ='Tax Form'!$B$14 -> 0 | D10: ='Tax Form'!$B$15 -> 0 | E10: ='Tax Form'!$B$16 -> 0 | F10: ='Tax Form'!$B$17 -> 0 | G10: ='Tax Form'!$B$20 -> 0 | H10: ='Tax Form'!$B$21 -> 0 | I10: ='Tax Form'!$B$22 -> 0 | J10: ='Tax Form'!$B$23 -> 0 | K10: ='Tax Form'!$B$26 -> 0 | L10: ='Tax Form'!$B$27 -> 0 | M10: ='Tax Form'!$B$28 -> 0 | N10: ='Tax Form'!A50 -> 0 | O10: ='Tax Form'!B50 -> Click to select from drop down list | P10: ='Tax Form'!C50 -> 0 | Q10: ='Tax Form'!D50 -> 0 | R10: ='Tax Form'!E50 -> Click to select from drop down list | S10: ='Tax Form'!G50 -> 0 | T10: ='Tax Form'!H50 | U10: ='Tax Form'!I50 -> 0
A11: ='Tax Form'!$B$12 -> 0 | B11: ='Tax Form'!$B$13 -> 0 | C11: ='Tax Form'!$B$14 -> 0 | D11: ='Tax Form'!$B$15 -> 0 | E11: ='Tax Form'!$B$16 -> 0 | F11: ='Tax Form'!$B$17 -> 0 | G11: ='Tax Form'!$B$20 -> 0 | H11: ='Tax Form'!$B$21 -> 0 | I11: ='Tax Form'!$B$22 -> 0 | J11: ='Tax Form'!$B$23 -> 0 | K11: ='Tax Form'!$B$26 -> 0 | L11: ='Tax Form'!$B$27 -> 0 | M11: ='Tax Form'!$B$28 -> 0 | N11: ='Tax Form'!A51 -> 0 | O11: ='Tax Form'!B51 -> Click to select from drop down list | P11: ='Tax Form'!C51 -> 0 | Q11: ='Tax Form'!D51 -> 0 | R11: ='Tax Form'!E51 -> Click to select from drop down list | S11: ='Tax Form'!G51 -> 0 | T11: ='Tax Form'!H51 | U11: ='Tax Form'!I51 -> 0
A12: ='Tax Form'!$B$12 -> 0 | B12: ='Tax Form'!$B$13 -> 0 | C12: ='Tax Form'!$B$14 -> 0 | D12: ='Tax Form'!$B$15 -> 0 | E12: ='Tax Form'!$B$16 -> 0 | F12: ='Tax Form'!$B$17 -> 0 | G12: ='Tax Form'!$B$20 -> 0 | H12: ='Tax Form'!$B$21 -> 0 | I12: ='Tax Form'!$B$22 -> 0 | J12: ='Tax Form'!$B$23 -> 0 | K12: ='Tax Form'!$B$26 -> 0 | L12: ='Tax Form'!$B$27 -> 0 | M12: ='Tax Form'!$B$28 -> 0 | N12: ='Tax Form'!A52 -> 0 | O12: ='Tax Form'!B52 -> Click to select from drop down list | P12: ='Tax Form'!C52 -> 0 | Q12: ='Tax Form'!D52 -> 0 | R12: ='Tax Form'!E52 -> Click to select from drop down list | S12: ='Tax Form'!G52 -> 0 | T12: ='Tax Form'!H52 | U12: ='Tax Form'!I52 -> 0
A13: ='Tax Form'!$B$12 -> 0 | B13: ='Tax Form'!$B$13 -> 0 | C13: ='Tax Form'!$B$14 -> 0 | D13: ='Tax Form'!$B$15 -> 0 | E13: ='Tax Form'!$B$16 -> 0 | F13: ='Tax Form'!$B$17 -> 0 | G13: ='Tax Form'!$B$20 -> 0 | H13: ='Tax Form'!$B$21 -> 0 | I13: ='Tax Form'!$B$22 -> 0 | J13: ='Tax Form'!$B$23 -> 0 | K13: ='Tax Form'!$B$26 -> 0 | L13: ='Tax Form'!$B$27 -> 0 | M13: ='Tax Form'!$B$28 -> 0 | N13: ='Tax Form'!A53 -> 0 | O13: ='Tax Form'!B53 -> Click to select from drop down list | P13: ='Tax Form'!C53 -> 0 | Q13: ='Tax Form'!D53 -> 0 | R13: ='Tax Form'!E53 -> Click to select from drop down list | S13: ='Tax Form'!G53 -> 0 | T13: ='Tax Form'!H53 | U13: ='Tax Form'!I53 -> 0
A14: ='Tax Form'!$B$12 -> 0 | B14: ='Tax Form'!$B$13 -> 0 | C14: ='Tax Form'!$B$14 -> 0 | D14: ='Tax Form'!$B$15 -> 0 | E14: ='Tax Form'!$B$16 -> 0 | F14: ='Tax Form'!$B$17 -> 0 | G14: ='Tax Form'!$B$20 -> 0 | H14: ='Tax Form'!$B$21 -> 0 | I14: ='Tax Form'!$B$22 -> 0 | J14: ='Tax Form'!$B$23 -> 0 | K14: ='Tax Form'!$B$26 -> 0 | L14: ='Tax Form'!$B$27 -> 0 | M14: ='Tax Form'!$B$28 -> 0 | N14: ='Tax Form'!A54 -> 0 | O14: ='Tax Form'!B54 -> Click to select from drop down list | P14: ='Tax Form'!C54 -> 0 | Q14: ='Tax Form'!D54 -> 0 | R14: ='Tax Form'!E54 -> Click to select from drop down list | S14: ='Tax Form'!G54 -> 0 | T14: ='Tax Form'!H54 | U14: ='Tax Form'!I54 -> 0
... A31: ='Tax Form'!$B$12 -> 0 | B31: ='Tax Form'!$B$13 -> 0 | C31: ='Tax Form'!$B$14 -> 0 | D31: ='Tax Form'!$B$15 -> 0 | E31: ='Tax Form'!$B$16 -> 0 | F31: ='Tax Form'!$B$17 -> 0 | G31: ='Tax Form'!$B$20 -> 0 | H31: ='Tax Form'!$B$21 -> 0 | I31: ='Tax Form'!$B$22 -> 0 | J31: ='Tax Form'!$B$23 -> 0 | K31: ='Tax Form'!$B$26 -> 0 | L31: ='Tax Form'!$B$27 -> 0 | M31: ='Tax Form'!$B$28 -> 0 | N31: ='Tax Form'!A71 -> 0 | O31: ='Tax Form'!B71 -> Click to select from drop down list | P31: ='Tax Form'!C71 -> 0 | Q31: ='Tax Form'!D71 -> 0 | R31: ='Tax Form'!E71 -> Click to select from drop down list | S31: ='Tax Form'!G71 -> 0 | T31: ='Tax Form'!H71 | U31: ='Tax Form'!I71 -> 0
